BEGIN:VCALENDAR
VERSION:2.0
PRODID:-//Faculty Center For Teaching, Learning &amp; Scholarship - ECPv6.15.17//NONSGML v1.0//EN
CALSCALE:GREGORIAN
METHOD:PUBLISH
X-ORIGINAL-URL:https://facultycenter.openlab-dev.sunycreate.cloud
X-WR-CALDESC:Events for Faculty Center For Teaching, Learning &amp; Scholarship
REFRESH-INTERVAL;VALUE=DURATION:PT1H
X-Robots-Tag:noindex
X-PUBLISHED-TTL:PT1H
BEGIN:VTIMEZONE
TZID:America/New_York
BEGIN:DAYLIGHT
TZOFFSETFROM:-0500
TZOFFSETTO:-0400
TZNAME:EDT
DTSTART:20230312T070000
END:DAYLIGHT
BEGIN:STANDARD
TZOFFSETFROM:-0400
TZOFFSETTO:-0500
TZNAME:EST
DTSTART:20231105T060000
END:STANDARD
BEGIN:DAYLIGHT
TZOFFSETFROM:-0500
TZOFFSETTO:-0400
TZNAME:EDT
DTSTART:20240310T070000
END:DAYLIGHT
BEGIN:STANDARD
TZOFFSETFROM:-0400
TZOFFSETTO:-0500
TZNAME:EST
DTSTART:20241103T060000
END:STANDARD
BEGIN:DAYLIGHT
TZOFFSETFROM:-0500
TZOFFSETTO:-0400
TZNAME:EDT
DTSTART:20250309T070000
END:DAYLIGHT
BEGIN:STANDARD
TZOFFSETFROM:-0400
TZOFFSETTO:-0500
TZNAME:EST
DTSTART:20251102T060000
END:STANDARD
END:VTIMEZONE
BEGIN:VEVENT
DTSTART;TZID=America/New_York:20241104T183000
DTEND;TZID=America/New_York:20241104T193000
DTSTAMP:20260421T224623
CREATED:20241016T195727Z
LAST-MODIFIED:20241016T200249Z
UID:1576-1730745000-1730748600@facultycenter.openlab-dev.sunycreate.cloud
SUMMARY:Democracy Dialogues Series: Discussion with Debra Bruno
DESCRIPTION:Presented by Debra Bruno\, author of A Hudson Valley Reckoning. \nThe Democracy Dialogues Series is sponsored by the American Democracy Project. This event is co-sponsored by the SUNY Oneonta History Department. \nLEAD credit available for attending!
URL:https://oneonta.campuslabs.com/engage/event/10624867
LOCATION:IRC 2
CATEGORIES:SUNY Oneonta Events
ATTACH;FMTTYPE=image/png:https://facultycenter.openlab-dev.sunycreate.cloud/wp-content/uploads/sites/368/2024/10/Campus-Connection-Graphics-3.49.23 PM.png
END:VEVENT
BEGIN:VEVENT
DTSTART;TZID=America/New_York:20241104T150000
DTEND;TZID=America/New_York:20241104T170000
DTSTAMP:20260421T224623
CREATED:20241002T210811Z
LAST-MODIFIED:20241003T232155Z
UID:1513-1730732400-1730739600@facultycenter.openlab-dev.sunycreate.cloud
SUMMARY:University Senate Meeting
DESCRIPTION:
URL:https://suny.oneonta.edu/university-senate
LOCATION:Craven Lounge\, Morris Conference Center
CATEGORIES:Standing Academic Meetings,SUNY Oneonta Events
END:VEVENT
BEGIN:VEVENT
DTSTART;TZID=America/New_York:20241104T150000
DTEND;TZID=America/New_York:20241104T160000
DTSTAMP:20260421T224623
CREATED:20241016T195559Z
LAST-MODIFIED:20241017T124932Z
UID:1573-1730732400-1730736000@facultycenter.openlab-dev.sunycreate.cloud
SUMMARY:Democracy Dialogues Series: The Role of the Free Press in the Modern World
DESCRIPTION:Presented by Debra Bruno\, author of A Hudson Valley Reckoning. \nThe Democracy Dialogues Series is sponsored by the American Democracy Project. This event is co-sponsored by the SUNY Oneonta History Department. \nLEAD credit available for attending! \n 
URL:https://oneonta.campuslabs.com/engage/event/10624754
LOCATION:IRC 6
CATEGORIES:SUNY Oneonta Events
ATTACH;FMTTYPE=image/png:https://facultycenter.openlab-dev.sunycreate.cloud/wp-content/uploads/sites/368/2024/10/Campus-Connection-Graphics-3.49.23 PM.png
END:VEVENT
BEGIN:VEVENT
DTSTART;TZID=America/New_York:20241031T120000
DTEND;TZID=America/New_York:20241031T130000
DTSTAMP:20260421T224623
CREATED:20241002T204448Z
LAST-MODIFIED:20241029T191322Z
UID:1482-1730376000-1730379600@facultycenter.openlab-dev.sunycreate.cloud
SUMMARY:SEVA Lecture
DESCRIPTION:
URL:https://forms.office.com/pages/responsepage.aspx?id=qLHJsq3Rn0yRcnKKjAjrZYPzuyLgYtZAmtj4xwL2DfpUQURGS0JKMlNKMzZWSEpKTTVaME5UR1NYOS4u&#038;route=shorturl
LOCATION:Morris Conference Center\, Otsego Grille
CATEGORIES:SUNY Oneonta Events
END:VEVENT
BEGIN:VEVENT
DTSTART;TZID=America/New_York:20241030T190000
DTEND;TZID=America/New_York:20241030T200000
DTSTAMP:20260421T224623
CREATED:20241016T195419Z
LAST-MODIFIED:20241017T125101Z
UID:1571-1730314800-1730318400@facultycenter.openlab-dev.sunycreate.cloud
SUMMARY:Democracy Dialogues Series: Theory\, Data\, and Practice: An Exercise in Comparative Democratic Assessment in East Asia and Africa
DESCRIPTION:Presented by Rob Compton\, Professor of Africana and Latinx Studies and Political Science\, SUNY Oneonta. \nThe Democracy Dialogues Series is sponsored by the American Democracy Project.
URL:https://oneonta.campuslabs.com/engage/event/10624715
LOCATION:Morris Conference Center\, Room 130
CATEGORIES:SUNY Oneonta Events
ATTACH;FMTTYPE=image/png:https://facultycenter.openlab-dev.sunycreate.cloud/wp-content/uploads/sites/368/2024/10/Campus-Connection-Graphics-3.49.23 PM.png
END:VEVENT
BEGIN:VEVENT
DTSTART;TZID=America/New_York:20241030T160000
DTEND;TZID=America/New_York:20241030T170000
DTSTAMP:20260421T224623
CREATED:20241002T204345Z
LAST-MODIFIED:20241003T232220Z
UID:1478-1730304000-1730307600@facultycenter.openlab-dev.sunycreate.cloud
SUMMARY:Navigating the World of Academic Publishing
DESCRIPTION:Join us for a presentation on the ins and outs of academic book publishing. This informative session will equip you with essential knowledge to successfully navigate the publishing process. Aaron Sanborn-Overby\, an acquisitions editor at De Gruyter Brill\, will describe the publishing journey from start to finish.
URL:https://oneonta.campuslabs.com/engage/event/10501373
LOCATION:Fitzelle Halle\, room 204
CATEGORIES:Faculty Center Events,SUNY Oneonta Events
ATTACH;FMTTYPE=image/png:https://facultycenter.openlab-dev.sunycreate.cloud/wp-content/uploads/sites/368/2024/10/Campus-Connection-Graphics-1.png
END:VEVENT
BEGIN:VEVENT
DTSTART;TZID=America/New_York:20241029T190000
DTEND;TZID=America/New_York:20241029T200000
DTSTAMP:20260421T224623
CREATED:20241016T195252Z
LAST-MODIFIED:20241017T125003Z
UID:1568-1730228400-1730232000@facultycenter.openlab-dev.sunycreate.cloud
SUMMARY:Democracy Dialogues Series: The Importance of Decency to a Thriving Democracy
DESCRIPTION:Presented by Chris Keegan\, Associate Professor of Philosophy at SUNY Oneonta. \nThe Democracy Dialogues Series is sponsored by the American Democracy Project.
URL:https://oneonta.campuslabs.com/engage/event/10624691
LOCATION:Morris Conference Center\, Room 130
CATEGORIES:SUNY Oneonta Events
ATTACH;FMTTYPE=image/png:https://facultycenter.openlab-dev.sunycreate.cloud/wp-content/uploads/sites/368/2024/10/Campus-Connection-Graphics-3.49.23 PM.png
END:VEVENT
BEGIN:VEVENT
DTSTART;TZID=America/New_York:20241028T190000
DTEND;TZID=America/New_York:20241028T200000
DTSTAMP:20260421T224623
CREATED:20241016T195131Z
LAST-MODIFIED:20241017T125030Z
UID:1563-1730142000-1730145600@facultycenter.openlab-dev.sunycreate.cloud
SUMMARY:Democracy Dialogues Series: Prison\, Art and the Re-Humanization of Democratic Life
DESCRIPTION:Presented by Corey McCall\, Cornell University Prison Education Program. \nThe Democracy Dialogues Series is sponsored by the American Democracy Project.
URL:https://oneonta.campuslabs.com/engage/event/10624656
LOCATION:Red Dragon Theatre
CATEGORIES:SUNY Oneonta Events
ATTACH;FMTTYPE=image/png:https://facultycenter.openlab-dev.sunycreate.cloud/wp-content/uploads/sites/368/2024/10/Campus-Connection-Graphics-3.49.23 PM.png
END:VEVENT
BEGIN:VEVENT
DTSTART;TZID=America/New_York:20241028T150000
DTEND;TZID=America/New_York:20241028T160000
DTSTAMP:20260421T224623
CREATED:20241002T204050Z
LAST-MODIFIED:20241003T232246Z
UID:1474-1730127600-1730131200@facultycenter.openlab-dev.sunycreate.cloud
SUMMARY:University Teach-In
DESCRIPTION:The Office of the President will partner with departments across campus to host a series of institution-wide teach-ins during the common meeting time (3 – 4 p.m. M\,W\,F) throughout the Fall 2024 semester. \nA unit or department will present on the operations\, functions\, and areas of collaboration related to their units and departments.  We will rotate by division and each division will work with their Vice President to choose the units or areas that will present. \nContact Karyn Wendrow\, Chief of Staff\, with any questions.
URL:https://facultycenter.openlab-dev.sunycreate.cloud/event/university-teach-in-2/
LOCATION:Fitzelle Hall\, room 105
CATEGORIES:SUNY Oneonta Events
END:VEVENT
BEGIN:VEVENT
DTSTART;TZID=America/New_York:20241028T000000
DTEND;TZID=America/New_York:20241028T235959
DTSTAMP:20260421T224623
CREATED:20241002T214314Z
LAST-MODIFIED:20241003T232258Z
UID:1536-1730073600-1730159999@facultycenter.openlab-dev.sunycreate.cloud
SUMMARY:Level 2: Best Practices in Online Teaching and Learning Begins
DESCRIPTION:This is the Level 2 Training course towards the Online Teaching Certification. Successful completion of this training and the SUNY DLE Brightspace Fundamentals Asynchronous Modules are required to teach online at SUNY Oneonta. \nThis 4-week course allows the participants to experience a fully online course as a student and work through the skills needed to successfully set up your own online courses.  While all of the work for this course can be done asynchronously\, there will be an opportunity each week for a synchronous session to connect with the instructors and the other participants.
URL:https://oneonta.campuslabs.com/engage/event/10343099
LOCATION:Online Event
CATEGORIES:Faculty Center Events,SUNY Oneonta Events
ATTACH;FMTTYPE=image/png:https://facultycenter.openlab-dev.sunycreate.cloud/wp-content/uploads/sites/368/2024/10/Campus-Connection-Graphics-2.png
END:VEVENT
BEGIN:VEVENT
DTSTART;TZID=America/New_York:20241026T090000
DTEND;TZID=America/New_York:20241026T170000
DTSTAMP:20260421T224623
CREATED:20241002T203924Z
LAST-MODIFIED:20241003T232310Z
UID:1470-1729933200-1729962000@facultycenter.openlab-dev.sunycreate.cloud
SUMMARY:PRISM Conference
DESCRIPTION:In 2024\, we are faced with many challenges\, between struggles for civil rights\, economic and political strife\, and threats to the lives of those we hold dear. It is through this that we can often find ourselves asking if there is more that we can do than show solidarity and support in these causes. This year\, we bring to you the 11th Annual PRISM Conference theme: Walking the Talk; a conference to discuss advocacy and allyship and how to transform allyship into activism.
URL:https://connect.oneonta.edu/event/10176794
LOCATION:Hunt Union
CATEGORIES:SUNY Oneonta Events
ATTACH;FMTTYPE=image/png:https://facultycenter.openlab-dev.sunycreate.cloud/wp-content/uploads/sites/368/2024/10/Screenshot-2024-10-02-at-12.39.03 PM.png
END:VEVENT
BEGIN:VEVENT
DTSTART;TZID=America/New_York:20241025T000000
DTEND;TZID=America/New_York:20241025T235959
DTSTAMP:20260421T224623
CREATED:20241025T132503Z
LAST-MODIFIED:20241025T132503Z
UID:1600-1729814400-1729900799@facultycenter.openlab-dev.sunycreate.cloud
SUMMARY:Future Ready Fellows Application Deadline
DESCRIPTION:
URL:https://suny.oneonta.edu/faculty-center/future-ready-fellows-linking-course-materials-and-career-competencies
CATEGORIES:Faculty Center Events,SUNY Oneonta Events
END:VEVENT
BEGIN:VEVENT
DTSTART;TZID=America/New_York:20241024T000000
DTEND;TZID=America/New_York:20241025T235959
DTSTAMP:20260421T224623
CREATED:20241002T203722Z
LAST-MODIFIED:20241003T232323Z
UID:1468-1729728000-1729900799@facultycenter.openlab-dev.sunycreate.cloud
SUMMARY:Fall Faculty Institute: Experiential Learning into the Classroom: Connecting Students to Opportunities
DESCRIPTION:Experiential Learning is a high-impact practice identified on campus as a main priority for our students. Learning through action\, reflection\, and collaboration can foster important skills and connect students with potential employers after college. Because the classroom is an equitable space on campus—all students enroll in courses—incorporating experiential learning skills and opportunities can ensure access for all students.
URL:https://suny.oneonta.edu/faculty-center/programs-and-services/fall-faculty-institute
CATEGORIES:Faculty Center Events,SUNY Oneonta Events
END:VEVENT
BEGIN:VEVENT
DTSTART;TZID=America/New_York:20241021T190000
DTEND;TZID=America/New_York:20241021T203000
DTSTAMP:20260421T224623
CREATED:20241002T203606Z
LAST-MODIFIED:20241003T232338Z
UID:1465-1729537200-1729542600@facultycenter.openlab-dev.sunycreate.cloud
SUMMARY:2024 Mills Distinguished Lecture featuring Cristina Henriquez
DESCRIPTION:The Mills Distinguished Lecture features the annual Common Read author.  This year’s author is Cristina Henríquez\, author of the 2024 Common Read\, The Book of Unknowns. \nHenríquez tells the story of fifteen-year-old Maribel Rivera\, who sustains a terrible injury\, and her parents\, who leave their comfortable life in Mexico and risk everything to come to the United States so that Maribel can have the care she needs.
URL:https://connect.oneonta.edu/event/10250306
LOCATION:Alumni Field House\, Dewar Arena
CATEGORIES:SUNY Oneonta Events
ATTACH;FMTTYPE=image/png:https://facultycenter.openlab-dev.sunycreate.cloud/wp-content/uploads/sites/368/2024/10/Screenshot-2024-10-02-at-12.32.49 PM.png
END:VEVENT
BEGIN:VEVENT
DTSTART;TZID=America/New_York:20241021T170000
DTEND;TZID=America/New_York:20241021T180000
DTSTAMP:20260421T224623
CREATED:20241002T203414Z
LAST-MODIFIED:20241003T232353Z
UID:1461-1729530000-1729533600@facultycenter.openlab-dev.sunycreate.cloud
SUMMARY:Faculty Q&A with Cristina Henriquez\, author of The Book of Unknown Americans
DESCRIPTION:For its 2024 Common Read\, SUNY Oneonta has chosen Cristina Henríquez’s book\, “The Book of Unknown Americans. \nHenríquez tells the story of fifteen-year-old Maribel Rivera\, who sustains a terrible injury\, and her parents\, who leave their comfortable life in Mexico and risk everything to come to the United States so that Maribel can have the care she needs. Once they arrive\, it’s not long before Maribel attracts the attention of Mayor Toro\, the son of one of their new neighbors\, who sees a kindred spirit in this outsider. Their love story sets in motion events that will have profound repercussions for everyone involved. Throughout this story of star-crossed lovers and their families\, Henríquez seamlessly interweaves the testimonials of men and women who have come to the United States from all over Latin America. \nThe Book of Unknown Americans was named a New York Times and Washington Post Notable Book\, an NPR Great Read\, The Daily Beast‘s Novel of the Year\, and a Mother Jones\, Oprah.com\, School Library Journal\, and BookPage Best Book of the Year.
URL:https://connect.oneonta.edu/event/10250305
LOCATION:Hunt Union\, Waterfront
CATEGORIES:SUNY Oneonta Events
ATTACH;FMTTYPE=image/png:https://facultycenter.openlab-dev.sunycreate.cloud/wp-content/uploads/sites/368/2024/10/Screenshot-2024-10-02-at-12.32.49 PM.png
END:VEVENT
BEGIN:VEVENT
DTSTART;TZID=America/New_York:20241021T153000
DTEND;TZID=America/New_York:20241021T170000
DTSTAMP:20260421T224623
CREATED:20241002T210700Z
LAST-MODIFIED:20241003T232406Z
UID:1510-1729524600-1729530000@facultycenter.openlab-dev.sunycreate.cloud
SUMMARY:University Senate Meeting
DESCRIPTION:
URL:https://suny.oneonta.edu/university-senate
LOCATION:IRC\, room 3
CATEGORIES:Standing Academic Meetings,SUNY Oneonta Events
END:VEVENT
BEGIN:VEVENT
DTSTART;TZID=America/New_York:20241021T130000
DTEND;TZID=America/New_York:20241021T140000
DTSTAMP:20260421T224623
CREATED:20241002T203157Z
LAST-MODIFIED:20241003T232417Z
UID:1458-1729515600-1729519200@facultycenter.openlab-dev.sunycreate.cloud
SUMMARY:Open Access Publishing Fund Informational Session
DESCRIPTION:Are you planning to publish an article soon? \nJoin us on October 21 at 1:00 PM to learn how you can get support through the Open Access Publishing Fund! Sophia\, our Interim Special Collections Librarian\, will walk you through the application process and explain how SUNY Oneonta authors can receive up to $3\,000 to cover the cost of Article Processing Charges (APCs) for a single article. This fund is open to SUNY Oneonta-based authors (or co-authors) of peer-reviewed articles published in Gold Open Access (non-hybrid) or hybrid journals\, with priority given to Gold Open Access. For hybrid journals\, up to 75% of the APC will be covered. \nDon’t miss this opportunity to support your open access publishing endeavors! \nPlease note that participants are not allowed to bring any food or drink into this room.
URL:https://facultycenter.openlab-dev.sunycreate.cloud/event/open-access-publishing-fund-informational-session/
LOCATION:Alden Room (300)\, Milne Library
CATEGORIES:SUNY Oneonta Events
END:VEVENT
BEGIN:VEVENT
DTSTART;TZID=America/New_York:20241018T150000
DTEND;TZID=America/New_York:20241018T160000
DTSTAMP:20260421T224623
CREATED:20241002T202847Z
LAST-MODIFIED:20241003T232430Z
UID:1456-1729263600-1729267200@facultycenter.openlab-dev.sunycreate.cloud
SUMMARY:Campus Mingle
DESCRIPTION:The Office of the President will partner with departments across campus to host a series of institution-wide campus mingles during the common meeting time (3 – 4 p.m. M\,W\,F) throughout the Fall 2024 semester. \nA unit or department will host an open house-style mingle in their office(s) and provide information/materials about their functions. These will be especially appropriate for units that are location dependent.  We will rotate by division and each division will work with their Vice President to determine the schedule for units that should or would like to host. 3-4 p.m. \nContact Karyn Wendrow\, Chief of Staff\, with any questions.
URL:https://facultycenter.openlab-dev.sunycreate.cloud/event/campus-mingle/
CATEGORIES:SUNY Oneonta Events
END:VEVENT
BEGIN:VEVENT
DTSTART;TZID=America/New_York:20241014T150000
DTEND;TZID=America/New_York:20241014T160000
DTSTAMP:20260421T224623
CREATED:20241002T192321Z
LAST-MODIFIED:20241003T232519Z
UID:1441-1728918000-1728921600@facultycenter.openlab-dev.sunycreate.cloud
SUMMARY:Teaching in Turbulent Times
DESCRIPTION:How do you support civil discourse in the classroom\, especially given the challenges of our present moment? As broader political\, personal\, and global instabilities influence life on campus\, this session will give us a chance to take a step back and consider how we navigate turbulent times in our teaching. Our facilitated conversation will focus on strategies that encourage diplomatic and worthwhile exchange\, and we’ve invited a few interested faculty to help us get started. Whether you regularly teach sensitive\, controversial\, or politically charged content in your classes\, or find yourself responding to impromptu conversations\, we hope you’ll join the Faculty Center to share your experiences and approaches.
URL:https://oneonta.campuslabs.com/engage/event/10469767
LOCATION:Hunt Union\, Glimmerglass Room
CATEGORIES:Faculty Center Events,SUNY Oneonta Events
ATTACH;FMTTYPE=image/png:https://facultycenter.openlab-dev.sunycreate.cloud/wp-content/uploads/sites/368/2024/10/Turbulent-Times.png
END:VEVENT
BEGIN:VEVENT
DTSTART;TZID=America/New_York:20241011T150000
DTEND;TZID=America/New_York:20241011T163000
DTSTAMP:20260421T224623
CREATED:20241002T235338Z
LAST-MODIFIED:20241003T232532Z
UID:1542-1728658800-1728664200@facultycenter.openlab-dev.sunycreate.cloud
SUMMARY:As Time Goes By: Redlining\, Kinship\, and Environmental Justice
DESCRIPTION:The campus community is invited to the Otsego Grille (Morris Hall\, Lower Level) at 3pm on Friday\, October 11\, for the Sustainable Development Goals Speaker Series hosted by the Department of Economics. The SDG Speaker Series brings​ to campus researchers whose expertise connects to one or more of the U.N. Sustainable Development Goals. Refreshments will be served.\n\nIn the third talk of this series\, Dr. Neha Khanna (Binghamton University) will discuss two previously unexplored factors—historical redlining and kinship—that help to explain disproportional exposure to environmental pollutants across racial and ethnic lines.\n\nFor more information\, contact: philip.sirianni@oneonta.edu
URL:https://facultycenter.openlab-dev.sunycreate.cloud/event/as-time-goes-by-redlining-kinship-and-environmental-justice/
LOCATION:Morris Conference Center\, Otsego Grille
CATEGORIES:SUNY Oneonta Events
ATTACH;FMTTYPE=image/png:https://facultycenter.openlab-dev.sunycreate.cloud/wp-content/uploads/sites/368/2024/10/Screenshot-2024-10-02-at-3.53.14 PM.png
END:VEVENT
BEGIN:VEVENT
DTSTART;TZID=America/New_York:20241011T130000
DTEND;TZID=America/New_York:20241011T143000
DTSTAMP:20260421T224623
CREATED:20241002T191920Z
LAST-MODIFIED:20241003T232544Z
UID:1439-1728651600-1728657000@facultycenter.openlab-dev.sunycreate.cloud
SUMMARY:CRUZANDO ENSUEÑOS - a Spanish Musical Performance
DESCRIPTION:A musical performance and a ritual offering to the migrants who strayed on their way to the United States\, Cruzando Ensueños reflects the difficult undocumented journey of families\, women\, and children. The play is performed by actress and singer Georgina Saldaña and directed by playwright Liliana Alberto\, both Mexican and migrant artists. Inspired by the farewell rituals for the dead in Oaxaca\, Mexico\, the performance features a repertoire of six songs\, one of which is in the indigenous Zapotec language\, to explore the celebration and mourning of life.
URL:https://connect.oneonta.edu/event/10433104
LOCATION:Hamblin Theater\, Fine Arts Center
CATEGORIES:SUNY Oneonta Events
ATTACH;FMTTYPE=image/png:https://facultycenter.openlab-dev.sunycreate.cloud/wp-content/uploads/sites/368/2024/10/Cruzando-Ensuenos.png
END:VEVENT
BEGIN:VEVENT
DTSTART;TZID=America/New_York:20241010T180000
DTEND;TZID=America/New_York:20241010T190000
DTSTAMP:20260421T224623
CREATED:20241002T191719Z
LAST-MODIFIED:20241003T232558Z
UID:1435-1728583200-1728586800@facultycenter.openlab-dev.sunycreate.cloud
SUMMARY:CRUZANDO ENSUEÑOS - a Spanish Musical Performance
DESCRIPTION:A musical performance and a ritual offering to the migrants who strayed on their way to the United States\, Cruzando Ensueños reflects the difficult undocumented journey of families\, women\, and children. The play is performed by actress and singer Georgina Saldaña and directed by playwright Liliana Alberto\, both Mexican and migrant artists. Inspired by the farewell rituals for the dead in Oaxaca\, Mexico\, the performance features a repertoire of six songs\, one of which is in the indigenous Zapotec language\, to explore the celebration and mourning of life.
URL:https://connect.oneonta.edu/event/10433090
LOCATION:Hamblin Theater\, Fine Arts Center
CATEGORIES:SUNY Oneonta Events
ATTACH;FMTTYPE=image/png:https://facultycenter.openlab-dev.sunycreate.cloud/wp-content/uploads/sites/368/2024/10/Cruzando-Ensuenos.png
END:VEVENT
BEGIN:VEVENT
DTSTART;TZID=America/New_York:20241010T083000
DTEND;TZID=America/New_York:20241010T100000
DTSTAMP:20260421T224623
CREATED:20241002T191114Z
LAST-MODIFIED:20241003T232609Z
UID:1430-1728549000-1728554400@facultycenter.openlab-dev.sunycreate.cloud
SUMMARY:Talking Teaching: A Community Roundtable with the Faculty Center
DESCRIPTION:These discussions are a space to connect and talk about what’s new in the world of teaching and learning. Each session will have a focus on a specific topic but can also be a space to talk about what is happening in the classroom and identify new modalities to explore.
URL:https://oneonta.campuslabs.com/engage/event/10444994
LOCATION:Hunt Union\, Oneonta Room
CATEGORIES:Faculty Center Events,SUNY Oneonta Events
ATTACH;FMTTYPE=image/png:https://facultycenter.openlab-dev.sunycreate.cloud/wp-content/uploads/sites/368/2024/10/Campus-Connection-Graphics.png
END:VEVENT
BEGIN:VEVENT
DTSTART;TZID=America/New_York:20241002T150000
DTEND;TZID=America/New_York:20241002T160000
DTSTAMP:20260421T224623
CREATED:20241002T185212Z
LAST-MODIFIED:20241003T232619Z
UID:1426-1727881200-1727884800@facultycenter.openlab-dev.sunycreate.cloud
SUMMARY:University Dialogue Session
DESCRIPTION:The Office of the President will partner with departments across campus to host a series of institution-wide dialogue sessions during the common meeting time (3:00 – 4:00pm M\,W\,F) throughout the Fall 2024 semester. \nA topic or question is posed for discussion and input. These are university-wide topics that would benefit from a discussion from broad array of stakeholders. These will all be held in IRC\, room 1. \nContact Karyn Wendrow\, Chief of Staff\, with any questions.
URL:https://facultycenter.openlab-dev.sunycreate.cloud/event/university-dialogue-session/
LOCATION:IRC\, Room 1
CATEGORIES:SUNY Oneonta Events
END:VEVENT
END:VCALENDAR