BEGIN:VCALENDAR
VERSION:2.0
PRODID:-//Faculty Center For Teaching, Learning &amp; Scholarship - ECPv6.15.17//NONSGML v1.0//EN
CALSCALE:GREGORIAN
METHOD:PUBLISH
X-ORIGINAL-URL:https://facultycenter.openlab-dev.sunycreate.cloud
X-WR-CALDESC:Events for Faculty Center For Teaching, Learning &amp; Scholarship
REFRESH-INTERVAL;VALUE=DURATION:PT1H
X-Robots-Tag:noindex
X-PUBLISHED-TTL:PT1H
BEGIN:VTIMEZONE
TZID:America/New_York
BEGIN:DAYLIGHT
TZOFFSETFROM:-0500
TZOFFSETTO:-0400
TZNAME:EDT
DTSTART:20240310T070000
END:DAYLIGHT
BEGIN:STANDARD
TZOFFSETFROM:-0400
TZOFFSETTO:-0500
TZNAME:EST
DTSTART:20241103T060000
END:STANDARD
BEGIN:DAYLIGHT
TZOFFSETFROM:-0500
TZOFFSETTO:-0400
TZNAME:EDT
DTSTART:20250309T070000
END:DAYLIGHT
BEGIN:STANDARD
TZOFFSETFROM:-0400
TZOFFSETTO:-0500
TZNAME:EST
DTSTART:20251102T060000
END:STANDARD
BEGIN:DAYLIGHT
TZOFFSETFROM:-0500
TZOFFSETTO:-0400
TZNAME:EDT
DTSTART:20260308T070000
END:DAYLIGHT
BEGIN:STANDARD
TZOFFSETFROM:-0400
TZOFFSETTO:-0500
TZNAME:EST
DTSTART:20261101T060000
END:STANDARD
END:VTIMEZONE
BEGIN:VEVENT
DTSTART;TZID=America/New_York:20250324T150000
DTEND;TZID=America/New_York:20250324T170000
DTSTAMP:20260421T104253
CREATED:20241002T211459Z
LAST-MODIFIED:20241003T231814Z
UID:1526-1742828400-1742835600@facultycenter.openlab-dev.sunycreate.cloud
SUMMARY:University Senate Meeting
DESCRIPTION:
URL:https://suny.oneonta.edu/university-senate
LOCATION:Craven Lounge\, Morris Conference Center
CATEGORIES:Standing Academic Meetings,SUNY Oneonta Events
END:VEVENT
BEGIN:VEVENT
DTSTART;TZID=America/New_York:20250321T163000
DTEND;TZID=America/New_York:20250321T183000
DTSTAMP:20260421T104253
CREATED:20250221T203910Z
LAST-MODIFIED:20250224T130956Z
UID:1866-1742574600-1742581800@facultycenter.openlab-dev.sunycreate.cloud
SUMMARY:Friday Social Hour at Muddy River
DESCRIPTION:
URL:https://oneonta.campuslabs.com/engage/event/11102125
CATEGORIES:Faculty Center Events,SUNY Oneonta Events
ATTACH;FMTTYPE=image/png:https://facultycenter.openlab-dev.sunycreate.cloud/wp-content/uploads/sites/368/2024/11/Campus-Connection-Graphics-1-e1732109553344.png
END:VEVENT
BEGIN:VEVENT
DTSTART;TZID=America/New_York:20250321T150000
DTEND;TZID=America/New_York:20250321T160000
DTSTAMP:20260421T104253
CREATED:20250106T175148Z
LAST-MODIFIED:20250106T175148Z
UID:1765-1742569200-1742572800@facultycenter.openlab-dev.sunycreate.cloud
SUMMARY:Campus Mingle
DESCRIPTION:The Office of the President will partner with departments across campus to host a series of institution-wide dialogue sessions\, teach-ins\, and mingles during the common meeting time (3 – 4 p.m. M\,W\,F) throughout the Spring 2025 semester. \nDuring the campus mingles\, a unit or department will host an open house-style mingle in their office(s) and provide information/materials about their functions. These will be especially appropriate for units that are location dependent. We will rotate by division and each division will work with their Vice President to determine the schedule for units that should or would like to host. 3-4 p.m. Location TBD — see bulletin for additional details.
URL:https://facultycenter.openlab-dev.sunycreate.cloud/event/campus-mingle-5/
CATEGORIES:SUNY Oneonta Events
END:VEVENT
BEGIN:VEVENT
DTSTART;TZID=America/New_York:20250320T140000
DTEND;TZID=America/New_York:20250320T150000
DTSTAMP:20260421T104253
CREATED:20250212T133326Z
LAST-MODIFIED:20250212T133326Z
UID:1849-1742479200-1742482800@facultycenter.openlab-dev.sunycreate.cloud
SUMMARY:Accessible Pedagogy Community of Practice
DESCRIPTION:Join the Faculty Center for Accessible Pedagogy\, a new working group launching this spring. Faculty from across campus will meet regularly to discuss ways to make our classes more accessible for the benefit of all students. We’ll be reading Ashley Shew’s Against Technoableism: Rethinking Who Needs Improvement and discussing models for designing pedagogy for accessibility\, such as Universal Design for Learning. All disciplines and experience levels welcome! Email racheal.fest@oneonta.edu for more information or to attend.
URL:https://facultycenter.openlab-dev.sunycreate.cloud/event/accessible-pedagogy-community-of-practice-2/
LOCATION:Fitzelle Hall\, Faculty Lounge
CATEGORIES:Faculty Center Events,SUNY Oneonta Events
END:VEVENT
BEGIN:VEVENT
DTSTART;TZID=America/New_York:20250320T103000
DTEND;TZID=America/New_York:20250320T120000
DTSTAMP:20260421T104253
CREATED:20250303T182150Z
LAST-MODIFIED:20250303T182150Z
UID:1879-1742466600-1742472000@facultycenter.openlab-dev.sunycreate.cloud
SUMMARY:Exploring Eportfolios: A Part of the Talking Teaching Roundtable Series
DESCRIPTION:
URL:https://oneonta.campuslabs.com/engage/event/11126562
LOCATION:Hunt Union\, Butternut Valley Room & Teams
CATEGORIES:Faculty Center Events,SUNY Oneonta Events
ATTACH;FMTTYPE=image/jpeg:https://facultycenter.openlab-dev.sunycreate.cloud/wp-content/uploads/sites/368/2025/03/Teaching-breakfast.jpeg
END:VEVENT
BEGIN:VEVENT
DTSTART;TZID=America/New_York:20250319T100000
DTEND;TZID=America/New_York:20250319T110000
DTSTAMP:20260421T104253
CREATED:20250303T181955Z
LAST-MODIFIED:20250303T181955Z
UID:1876-1742378400-1742382000@facultycenter.openlab-dev.sunycreate.cloud
SUMMARY:Brightspace Gradebook for Mid Term Grades
DESCRIPTION:
URL:https://oneonta.campuslabs.com/engage/event/11133109
LOCATION:Milne 214
CATEGORIES:Faculty Center Events,SUNY Oneonta Events
ATTACH;FMTTYPE=image/png:https://facultycenter.openlab-dev.sunycreate.cloud/wp-content/uploads/sites/368/2025/03/Campus-Connection-Graphics-24.png
END:VEVENT
BEGIN:VEVENT
DTSTART;TZID=America/New_York:20250317T150000
DTEND;TZID=America/New_York:20250317T160000
DTSTAMP:20260421T104253
CREATED:20250106T174357Z
LAST-MODIFIED:20250106T174357Z
UID:1745-1742223600-1742227200@facultycenter.openlab-dev.sunycreate.cloud
SUMMARY:University Teach-In
DESCRIPTION:The Office of the President will partner with departments across campus to host a series of institution-wide dialogue sessions\, teach-ins\, and mingles during the common meeting time (3 – 4 p.m. M\,W\,F) throughout the Spring 2025 semester. \nDuring teach-ins\, a unit or department will present on the operations\, functions\, and areas of collaboration related to their units and departments.  We will rotate by division and each division will work with their Vice President to choose the units or areas that will present.  These will all be held in Fitzelle 105 from 3-4 p.m. List of departments hosting these is being finalized.
URL:https://facultycenter.openlab-dev.sunycreate.cloud/event/university-teach-in-8/
LOCATION:Fitzelle Hall\, room 105
CATEGORIES:SUNY Oneonta Events
END:VEVENT
BEGIN:VEVENT
DTSTART;TZID=America/New_York:20250317T000000
DTEND;TZID=America/New_York:20250317T235959
DTSTAMP:20260421T104253
CREATED:20250210T175250Z
LAST-MODIFIED:20250210T175250Z
UID:1829-1742169600-1742255999@facultycenter.openlab-dev.sunycreate.cloud
SUMMARY:Level 2: Best Practices in Online Teaching and Learning begins
DESCRIPTION:
URL:https://connect.oneonta.edu/event/11046992
LOCATION:Online Event
CATEGORIES:Faculty Center Events,SUNY Oneonta Events
ATTACH;FMTTYPE=image/jpeg:https://facultycenter.openlab-dev.sunycreate.cloud/wp-content/uploads/sites/368/2025/02/BestPractices.jpg
END:VEVENT
BEGIN:VEVENT
DTSTART;TZID=America/New_York:20250307T150000
DTEND;TZID=America/New_York:20250307T160000
DTSTAMP:20260421T104253
CREATED:20250106T174924Z
LAST-MODIFIED:20250106T174924Z
UID:1759-1741359600-1741363200@facultycenter.openlab-dev.sunycreate.cloud
SUMMARY:President's Dialogue Session
DESCRIPTION:The Office of the President will partner with departments across campus to host a series of institution-wide dialogue sessions\, teach-ins\, and mingles during the common meeting time (3 – 4 p.m. M\,W\,F) throughout the Spring 2025 semester. \nDuring the dialogue sessions\, a topic or question is posed for discussion with President Cardelle and other University leaders. These are university-wide topics that would benefit from a discussion from broad array of stakeholders. These will all be held in IRC\, room 1\, from 3 – 4 p.m.
URL:https://facultycenter.openlab-dev.sunycreate.cloud/event/presidents-dialogue-session-2/
LOCATION:IRC\, Room 1
CATEGORIES:SUNY Oneonta Events
END:VEVENT
BEGIN:VEVENT
DTSTART;TZID=America/New_York:20250306T113000
DTEND;TZID=America/New_York:20250306T123000
DTSTAMP:20260421T104253
CREATED:20250224T150253Z
LAST-MODIFIED:20250224T175243Z
UID:1872-1741260600-1741264200@facultycenter.openlab-dev.sunycreate.cloud
SUMMARY:Faculty Lunch Hour
DESCRIPTION:
URL:https://oneonta.campuslabs.com/engage/event/11107015
LOCATION:Mills Dining Hall
CATEGORIES:Faculty Center Events,SUNY Oneonta Events
ATTACH;FMTTYPE=image/png:https://facultycenter.openlab-dev.sunycreate.cloud/wp-content/uploads/sites/368/2025/01/Campus-Connection-Graphics-18.png
END:VEVENT
BEGIN:VEVENT
DTSTART;TZID=America/New_York:20250305T150000
DTEND;TZID=America/New_York:20250305T160000
DTSTAMP:20260421T104253
CREATED:20250106T174810Z
LAST-MODIFIED:20250106T174810Z
UID:1755-1741186800-1741190400@facultycenter.openlab-dev.sunycreate.cloud
SUMMARY:President's Dialogue Session: Forward Momentum Agenda Update
DESCRIPTION:The Office of the President will partner with departments across campus to host a series of institution-wide dialogue sessions\, teach-ins\, and mingles during the common meeting time (3 – 4 p.m. M\,W\,F) throughout the Spring 2025 semester. \nDuring the dialogue sessions\, a topic or question is posed for discussion with President Cardelle and other University leaders. These are university-wide topics that would benefit from a discussion from broad array of stakeholders. These will all be held in IRC\, room 1\, from 3 – 4 p.m.
URL:https://facultycenter.openlab-dev.sunycreate.cloud/event/presidents-dialogue-session-forward-momentum-agenda-update/
LOCATION:IRC\, Room 1
CATEGORIES:SUNY Oneonta Events
END:VEVENT
BEGIN:VEVENT
DTSTART;TZID=America/New_York:20250303T150000
DTEND;TZID=America/New_York:20250303T170000
DTSTAMP:20260421T104253
CREATED:20241002T211425Z
LAST-MODIFIED:20241003T231831Z
UID:1524-1741014000-1741021200@facultycenter.openlab-dev.sunycreate.cloud
SUMMARY:University Senate Meeting
DESCRIPTION:
URL:https://suny.oneonta.edu/university-senate
LOCATION:Craven Lounge\, Morris Conference Center
CATEGORIES:Standing Academic Meetings,SUNY Oneonta Events
END:VEVENT
BEGIN:VEVENT
DTSTART;TZID=America/New_York:20250227T140000
DTEND;TZID=America/New_York:20250227T150000
DTSTAMP:20260421T104253
CREATED:20250212T133230Z
LAST-MODIFIED:20250212T133230Z
UID:1846-1740664800-1740668400@facultycenter.openlab-dev.sunycreate.cloud
SUMMARY:Accessible Pedagogy Community of Practice
DESCRIPTION:Join the Faculty Center for Accessible Pedagogy\, a new working group launching this spring. Faculty from across campus will meet regularly to discuss ways to make our classes more accessible for the benefit of all students. We’ll be reading Ashley Shew’s Against Technoableism: Rethinking Who Needs Improvement and discussing models for designing pedagogy for accessibility\, such as Universal Design for Learning. All disciplines and experience levels welcome! Email racheal.fest@oneonta.edu for more information or to attend.
URL:https://facultycenter.openlab-dev.sunycreate.cloud/event/accessible-pedagogy-community-of-practice/
LOCATION:Fitzelle Hall\, Faculty Lounge
CATEGORIES:Faculty Center Events,SUNY Oneonta Events
END:VEVENT
BEGIN:VEVENT
DTSTART;TZID=America/New_York:20250227T083000
DTEND;TZID=America/New_York:20250227T100000
DTSTAMP:20260421T104253
CREATED:20250210T175354Z
LAST-MODIFIED:20250210T175354Z
UID:1832-1740645000-1740650400@facultycenter.openlab-dev.sunycreate.cloud
SUMMARY:Teaching Breakfast
DESCRIPTION:
URL:https://connect.oneonta.edu/event/11037525
LOCATION:Hunt Union\, Butternut Valley Room
CATEGORIES:Faculty Center Events,SUNY Oneonta Events
ATTACH;FMTTYPE=image/png:https://facultycenter.openlab-dev.sunycreate.cloud/wp-content/uploads/sites/368/2025/02/Campus-Connection-Graphics-20.png
END:VEVENT
BEGIN:VEVENT
DTSTART;TZID=America/New_York:20250226T120000
DTEND;TZID=America/New_York:20250226T130000
DTSTAMP:20260421T104253
CREATED:20250203T175539Z
LAST-MODIFIED:20250203T175539Z
UID:1816-1740571200-1740574800@facultycenter.openlab-dev.sunycreate.cloud
SUMMARY:Faculty Convivium: Hiking to Document Hiking: Movement\, Content Creation\, and the Great Outdoors
DESCRIPTION:
URL:https://forms.office.com/pages/responsepage.aspx?id=qLHJsq3Rn0yRcnKKjAjrZYPzuyLgYtZAmtj4xwL2DfpUQkVVVVFTMFBQUU1PWkFNR0w0NU1ZUEFNOS4u&#038;route=shorturl
LOCATION:Morris Conference Center\, Otsego Grille
CATEGORIES:SUNY Oneonta Events
END:VEVENT
BEGIN:VEVENT
DTSTART;TZID=America/New_York:20250225T150000
DTEND;TZID=America/New_York:20250225T160000
DTSTAMP:20260421T104253
CREATED:20250131T185001Z
LAST-MODIFIED:20250131T202844Z
UID:1808-1740495600-1740499200@facultycenter.openlab-dev.sunycreate.cloud
SUMMARY:Using Rubrics for Grading & Feedback in Brightspace
DESCRIPTION:
URL:https://connect.oneonta.edu/event/10997150
LOCATION:Milne 214
CATEGORIES:Faculty Center Events,SUNY Oneonta Events
ATTACH;FMTTYPE=image/png:https://facultycenter.openlab-dev.sunycreate.cloud/wp-content/uploads/sites/368/2025/01/Campus-Connection-Graphics-14.png
END:VEVENT
BEGIN:VEVENT
DTSTART;TZID=America/New_York:20250224T150000
DTEND;TZID=America/New_York:20250224T160000
DTSTAMP:20260421T104253
CREATED:20250106T174314Z
LAST-MODIFIED:20250106T174314Z
UID:1743-1740409200-1740412800@facultycenter.openlab-dev.sunycreate.cloud
SUMMARY:University Teach-In
DESCRIPTION:The Office of the President will partner with departments across campus to host a series of institution-wide dialogue sessions\, teach-ins\, and mingles during the common meeting time (3 – 4 p.m. M\,W\,F) throughout the Spring 2025 semester. \nDuring teach-ins\, a unit or department will present on the operations\, functions\, and areas of collaboration related to their units and departments.  We will rotate by division and each division will work with their Vice President to choose the units or areas that will present.  These will all be held in Fitzelle 105 from 3-4 p.m. List of departments hosting these is being finalized.
URL:https://facultycenter.openlab-dev.sunycreate.cloud/event/university-teach-in-7/
LOCATION:Fitzelle Hall\, room 105
CATEGORIES:SUNY Oneonta Events
END:VEVENT
BEGIN:VEVENT
DTSTART;TZID=America/New_York:20250221T163000
DTEND;TZID=America/New_York:20250221T183000
DTSTAMP:20260421T104253
CREATED:20250128T181137Z
LAST-MODIFIED:20250131T202948Z
UID:1793-1740155400-1740162600@facultycenter.openlab-dev.sunycreate.cloud
SUMMARY:Friday Social Hour at Muddy River
DESCRIPTION:Join us for a social hour at Muddy River’s Oneonta Tap Room! The Tap Room is located on the corner of Chestnut St and Winney Hill Rd\, in the West Gate Plaza.  There is food and non-alcoholic drinks as well\, so come join if you are interested in connecting with faculty outside of the campus day.  The address is West Gate Plaza\, 107 Winney Hill Rd Suite #1\, Oneonta\, NY 13820.
URL:https://connect.oneonta.edu/event/10973847
LOCATION:Muddy River\, Suite #1\, 107 West Gate Plaza\, Oneonta\, NY\, 13820
CATEGORIES:Faculty Center Events,SUNY Oneonta Events
ATTACH;FMTTYPE=image/png:https://facultycenter.openlab-dev.sunycreate.cloud/wp-content/uploads/sites/368/2024/11/Campus-Connection-Graphics-1-e1732109553344.png
END:VEVENT
BEGIN:VEVENT
DTSTART;TZID=America/New_York:20250221T150000
DTEND;TZID=America/New_York:20250221T160000
DTSTAMP:20260421T104253
CREATED:20250106T175125Z
LAST-MODIFIED:20250106T175125Z
UID:1763-1740150000-1740153600@facultycenter.openlab-dev.sunycreate.cloud
SUMMARY:Campus Mingle
DESCRIPTION:The Office of the President will partner with departments across campus to host a series of institution-wide dialogue sessions\, teach-ins\, and mingles during the common meeting time (3 – 4 p.m. M\,W\,F) throughout the Spring 2025 semester. \nDuring the campus mingles\, a unit or department will host an open house-style mingle in their office(s) and provide information/materials about their functions. These will be especially appropriate for units that are location dependent. We will rotate by division and each division will work with their Vice President to determine the schedule for units that should or would like to host. 3-4 p.m. Location TBD — see bulletin for additional details.
URL:https://facultycenter.openlab-dev.sunycreate.cloud/event/campus-mingle-4/
CATEGORIES:SUNY Oneonta Events
END:VEVENT
BEGIN:VEVENT
DTSTART;TZID=America/New_York:20250220T130000
DTEND;TZID=America/New_York:20250220T140000
DTSTAMP:20260421T104253
CREATED:20250131T185051Z
LAST-MODIFIED:20250220T130927Z
UID:1810-1740056400-1740060000@facultycenter.openlab-dev.sunycreate.cloud
SUMMARY:Running Open-Source AI Models Locally: Exploring AI with Students
DESCRIPTION:
URL:https://oneonta.campuslabs.com/engage/event/11053593
LOCATION:Milne Library\, Room 102
CATEGORIES:Faculty Center Events,SUNY Oneonta Events
ATTACH;FMTTYPE=image/png:https://facultycenter.openlab-dev.sunycreate.cloud/wp-content/uploads/sites/368/2025/01/Campus-Connection-Graphics-15.png
END:VEVENT
BEGIN:VEVENT
DTSTART;TZID=America/New_York:20250219T180000
DTEND;TZID=America/New_York:20250219T190000
DTSTAMP:20260421T104253
CREATED:20250210T193304Z
LAST-MODIFIED:20250210T193304Z
UID:1839-1739988000-1739991600@facultycenter.openlab-dev.sunycreate.cloud
SUMMARY:Alden Scholar Series Lecture: Hopis and the Counterculture: Traditionalism\, Appropriation\, and the Birth of a Social Field
DESCRIPTION:
URL:https://oneontabulletin.wordpress.com/2025/02/05/alden-lecture-by-dr-brian-haley-feb-19/
LOCATION:Milne Library\, Room 318
CATEGORIES:SUNY Oneonta Events
END:VEVENT
BEGIN:VEVENT
DTSTART;TZID=America/New_York:20250219T150000
DTEND;TZID=America/New_York:20250219T160000
DTSTAMP:20260421T104253
CREATED:20250131T184919Z
LAST-MODIFIED:20250131T202932Z
UID:1803-1739977200-1739980800@facultycenter.openlab-dev.sunycreate.cloud
SUMMARY:Incorporating Video Note in Brightspace Discussions
DESCRIPTION:
URL:https://connect.oneonta.edu/event/10997151
LOCATION:Milne 214
CATEGORIES:Faculty Center Events,SUNY Oneonta Events
ATTACH;FMTTYPE=image/png:https://facultycenter.openlab-dev.sunycreate.cloud/wp-content/uploads/sites/368/2025/01/Campus-Connection-Graphics-13.png
END:VEVENT
BEGIN:VEVENT
DTSTART;TZID=America/New_York:20250219T120000
DTEND;TZID=America/New_York:20250219T133000
DTSTAMP:20260421T104253
CREATED:20250205T204605Z
LAST-MODIFIED:20250205T204605Z
UID:1819-1739966400-1739971800@facultycenter.openlab-dev.sunycreate.cloud
SUMMARY:International Mother Language Day Celebration
DESCRIPTION:
URL:https://oneonta.campuslabs.com/engage/event/11006161
LOCATION:Hunt Union\, Union Square
CATEGORIES:SUNY Oneonta Events
ATTACH;FMTTYPE=image/png:https://facultycenter.openlab-dev.sunycreate.cloud/wp-content/uploads/sites/368/2025/02/Screenshot-2025-02-05-at-3.45.22 PM.png
END:VEVENT
BEGIN:VEVENT
DTSTART;TZID=America/New_York:20250217T150000
DTEND;TZID=America/New_York:20250217T160000
DTSTAMP:20260421T104253
CREATED:20250106T174238Z
LAST-MODIFIED:20250106T174238Z
UID:1741-1739804400-1739808000@facultycenter.openlab-dev.sunycreate.cloud
SUMMARY:University Teach-In
DESCRIPTION:The Office of the President will partner with departments across campus to host a series of institution-wide dialogue sessions\, teach-ins\, and mingles during the common meeting time (3 – 4 p.m. M\,W\,F) throughout the Spring 2025 semester. \nDuring teach-ins\, a unit or department will present on the operations\, functions\, and areas of collaboration related to their units and departments.  We will rotate by division and each division will work with their Vice President to choose the units or areas that will present.  These will all be held in Fitzelle 105 from 3-4 p.m. List of departments hosting these is being finalized.
URL:https://facultycenter.openlab-dev.sunycreate.cloud/event/university-teach-in-6/
LOCATION:Fitzelle Hall\, room 105
CATEGORIES:SUNY Oneonta Events
END:VEVENT
BEGIN:VEVENT
DTSTART;TZID=America/New_York:20250215T000000
DTEND;TZID=America/New_York:20250215T235959
DTSTAMP:20260421T104253
CREATED:20250123T143322Z
LAST-MODIFIED:20250123T143322Z
UID:1786-1739577600-1739663999@facultycenter.openlab-dev.sunycreate.cloud
SUMMARY:Deadline for Proposals - 2025 Student Diversity & Leadership Conference
DESCRIPTION:
URL:https://suny.oneonta.edu/office-equity-and-inclusion/leadership-opportunities
CATEGORIES:SUNY Oneonta Events
ATTACH;FMTTYPE=image/png:https://facultycenter.openlab-dev.sunycreate.cloud/wp-content/uploads/sites/368/2024/12/Screenshot-2024-12-09-at-9.26.57 AM.png
END:VEVENT
BEGIN:VEVENT
DTSTART;TZID=America/New_York:20250213T113000
DTEND;TZID=America/New_York:20250213T123000
DTSTAMP:20260421T104253
CREATED:20250131T185414Z
LAST-MODIFIED:20250131T185414Z
UID:1812-1739446200-1739449800@facultycenter.openlab-dev.sunycreate.cloud
SUMMARY:Faculty Lunch Hour
DESCRIPTION:
URL:https://facultycenter.openlab-dev.sunycreate.cloud/event/faculty-lunch-hour/
CATEGORIES:Faculty Center Events,SUNY Oneonta Events
ATTACH;FMTTYPE=image/png:https://facultycenter.openlab-dev.sunycreate.cloud/wp-content/uploads/sites/368/2025/01/Campus-Connection-Graphics-18.png
END:VEVENT
BEGIN:VEVENT
DTSTART;TZID=America/New_York:20250210T150000
DTEND;TZID=America/New_York:20250210T170000
DTSTAMP:20260421T104253
CREATED:20241002T211208Z
LAST-MODIFIED:20241003T231846Z
UID:1522-1739199600-1739206800@facultycenter.openlab-dev.sunycreate.cloud
SUMMARY:University Senate Meeting
DESCRIPTION:
URL:https://suny.oneonta.edu/university-senate
LOCATION:Morris Conference Center\, Otsego Grille
CATEGORIES:Standing Academic Meetings,SUNY Oneonta Events
END:VEVENT
BEGIN:VEVENT
DTSTART;TZID=America/New_York:20250210T000000
DTEND;TZID=America/New_York:20250210T235959
DTSTAMP:20260421T104253
CREATED:20241202T181347Z
LAST-MODIFIED:20241202T181347Z
UID:1695-1739145600-1739231999@facultycenter.openlab-dev.sunycreate.cloud
SUMMARY:Spring 2025 Mutual Support Writing Groups Deadline
DESCRIPTION:Are you working on a scholarly or creative project this semester? If so\, consider joining a Mutual Support Writing Group (sponsored by the Faculty Center) this semester. Each writing group will bring together faculty who are actively researching\, writing\, or revising scholarly or creative projects for publication. Your group will meet twice a semester to set writing goals and to support each member’s progress. To join\, complete this survey about your project and interests. The Faculty Center will then connect you with other writers and creators\, offer a framework for your group’s check-ins\, and sponsor your meetings with a Starbucks gift card. Complete the survey by February 10 to be connected with a group for Spring 2025.
URL:https://facultycenter.openlab-dev.sunycreate.cloud/event/spring-2025-mutual-support-writing-groups-deadline/
CATEGORIES:Faculty Center Events,SUNY Oneonta Events
ATTACH;FMTTYPE=image/png:https://facultycenter.openlab-dev.sunycreate.cloud/wp-content/uploads/sites/368/2024/12/Campus-Connection-Graphics-e1733163174227.png
END:VEVENT
BEGIN:VEVENT
DTSTART;TZID=America/New_York:20250205T150000
DTEND;TZID=America/New_York:20250205T160000
DTSTAMP:20260421T104253
CREATED:20250106T174727Z
LAST-MODIFIED:20250106T174727Z
UID:1753-1738767600-1738771200@facultycenter.openlab-dev.sunycreate.cloud
SUMMARY:President's Dialogue Session: University Retention Plan
DESCRIPTION:The Office of the President will partner with departments across campus to host a series of institution-wide dialogue sessions\, teach-ins\, and mingles during the common meeting time (3 – 4 p.m. M\,W\,F) throughout the Spring 2025 semester. \nDuring the dialogue sessions\, a topic or question is posed for discussion with President Cardelle and other University leaders. These are university-wide topics that would benefit from a discussion from broad array of stakeholders. These will all be held in IRC\, room 1\, from 3 – 4 p.m.
URL:https://facultycenter.openlab-dev.sunycreate.cloud/event/presidents-dialogue-session-university-retention-plan/
LOCATION:IRC\, Room 1
CATEGORIES:SUNY Oneonta Events
END:VEVENT
BEGIN:VEVENT
DTSTART;TZID=America/New_York:20250130T143000
DTEND;TZID=America/New_York:20250130T153000
DTSTAMP:20260421T104253
CREATED:20250127T180916Z
LAST-MODIFIED:20250127T180916Z
UID:1791-1738247400-1738251000@facultycenter.openlab-dev.sunycreate.cloud
SUMMARY:International Student & CAMP Alumnae Panel
DESCRIPTION:
URL:https://oneontabulletin.wordpress.com/2025/01/27/international-student-camp-alumnae-panel-jan-30/
LOCATION:Hunt Union\, Waterfront
CATEGORIES:SUNY Oneonta Events
END:VEVENT
END:VCALENDAR