BEGIN:VCALENDAR
VERSION:2.0
PRODID:-//Faculty Center For Teaching, Learning &amp; Scholarship - ECPv6.15.17//NONSGML v1.0//EN
CALSCALE:GREGORIAN
METHOD:PUBLISH
X-WR-CALNAME:Faculty Center For Teaching, Learning &amp; Scholarship
X-ORIGINAL-URL:https://facultycenter.openlab-dev.sunycreate.cloud
X-WR-CALDESC:Events for Faculty Center For Teaching, Learning &amp; Scholarship
REFRESH-INTERVAL;VALUE=DURATION:PT1H
X-Robots-Tag:noindex
X-PUBLISHED-TTL:PT1H
BEGIN:VTIMEZONE
TZID:America/New_York
BEGIN:DAYLIGHT
TZOFFSETFROM:-0500
TZOFFSETTO:-0400
TZNAME:EDT
DTSTART:20240310T070000
END:DAYLIGHT
BEGIN:STANDARD
TZOFFSETFROM:-0400
TZOFFSETTO:-0500
TZNAME:EST
DTSTART:20241103T060000
END:STANDARD
BEGIN:DAYLIGHT
TZOFFSETFROM:-0500
TZOFFSETTO:-0400
TZNAME:EDT
DTSTART:20250309T070000
END:DAYLIGHT
BEGIN:STANDARD
TZOFFSETFROM:-0400
TZOFFSETTO:-0500
TZNAME:EST
DTSTART:20251102T060000
END:STANDARD
BEGIN:DAYLIGHT
TZOFFSETFROM:-0500
TZOFFSETTO:-0400
TZNAME:EDT
DTSTART:20260308T070000
END:DAYLIGHT
BEGIN:STANDARD
TZOFFSETFROM:-0400
TZOFFSETTO:-0500
TZNAME:EST
DTSTART:20261101T060000
END:STANDARD
END:VTIMEZONE
BEGIN:VEVENT
DTSTART;TZID=America/New_York:20251104T160000
DTEND;TZID=America/New_York:20251104T170000
DTSTAMP:20260420T230115
CREATED:20250416T145605Z
LAST-MODIFIED:20250416T145605Z
UID:1983-1762272000-1762275600@facultycenter.openlab-dev.sunycreate.cloud
SUMMARY:Reading Group – Amitav Ghosh’s The Nutmeg’s Curse
DESCRIPTION:The Offices of Equity and Inclusion and Sustainability and the Faculty Center are organizing a group of faculty and staff to read Amitav Ghosh’s The Nutmeg’s Curse in Fall 2025. A powerful work of history\, essay\, testimony\, and polemic\, The Nutmeg’s Curse traces our contemporary planetary crisis back to the discovery of the New World and the sea route to the Indian Ocean. The group will meet from 4:00-5:00pm on Tuesdays (September 16 & 30\, October 21\, November 4). Click here to register!
URL:https://facultycenter.openlab-dev.sunycreate.cloud/event/reading-group-amitav-ghoshs-the-nutmegs-curse-4/
CATEGORIES:Faculty Center Events,SUNY Oneonta Events
ATTACH;FMTTYPE=image/png:https://facultycenter.openlab-dev.sunycreate.cloud/wp-content/uploads/sites/368/2025/04/Screenshot-2025-04-16-at-10.50.20 AM.png
END:VEVENT
BEGIN:VEVENT
DTSTART;TZID=America/New_York:20251023T000000
DTEND;TZID=America/New_York:20251024T235959
DTSTAMP:20260420T230115
CREATED:20250207T134201Z
LAST-MODIFIED:20250207T134201Z
UID:1823-1761177600-1761350399@facultycenter.openlab-dev.sunycreate.cloud
SUMMARY:2025 Fall Faculty Institute
DESCRIPTION:
URL:https://facultycenter.openlab-dev.sunycreate.cloud/event/2025-fall-faculty-institute/
CATEGORIES:Faculty Center Events,SUNY Oneonta Events
END:VEVENT
BEGIN:VEVENT
DTSTART;TZID=America/New_York:20251021T160000
DTEND;TZID=America/New_York:20251021T170000
DTSTAMP:20260420T230115
CREATED:20250416T145527Z
LAST-MODIFIED:20250416T145527Z
UID:1981-1761062400-1761066000@facultycenter.openlab-dev.sunycreate.cloud
SUMMARY:Reading Group – Amitav Ghosh’s The Nutmeg’s Curse
DESCRIPTION:The Offices of Equity and Inclusion and Sustainability and the Faculty Center are organizing a group of faculty and staff to read Amitav Ghosh’s The Nutmeg’s Curse in Fall 2025. A powerful work of history\, essay\, testimony\, and polemic\, The Nutmeg’s Curse traces our contemporary planetary crisis back to the discovery of the New World and the sea route to the Indian Ocean. The group will meet from 4:00-5:00pm on Tuesdays (September 16 & 30\, October 21\, November 4). Click here to register!
URL:https://facultycenter.openlab-dev.sunycreate.cloud/event/reading-group-amitav-ghoshs-the-nutmegs-curse-3/
CATEGORIES:Faculty Center Events,SUNY Oneonta Events
ATTACH;FMTTYPE=image/png:https://facultycenter.openlab-dev.sunycreate.cloud/wp-content/uploads/sites/368/2025/04/Screenshot-2025-04-16-at-10.50.20 AM.png
END:VEVENT
BEGIN:VEVENT
DTSTART;TZID=America/New_York:20251010T000000
DTEND;TZID=America/New_York:20251010T235959
DTSTAMP:20260420T230115
CREATED:20250219T145745Z
LAST-MODIFIED:20250219T145745Z
UID:1860-1760054400-1760140799@facultycenter.openlab-dev.sunycreate.cloud
SUMMARY:SUNY Oneonta & ONC/DCMO BOCES Conference
DESCRIPTION:
URL:https://facultycenter.openlab-dev.sunycreate.cloud/event/suny-oneonta-onc-dcmo-boces-conference/
END:VEVENT
BEGIN:VEVENT
DTSTART;TZID=America/New_York:20250930T160000
DTEND;TZID=America/New_York:20250930T170000
DTSTAMP:20260420T230115
CREATED:20250416T145438Z
LAST-MODIFIED:20250416T145438Z
UID:1979-1759248000-1759251600@facultycenter.openlab-dev.sunycreate.cloud
SUMMARY:Reading Group – Amitav Ghosh’s The Nutmeg’s Curse
DESCRIPTION:The Offices of Equity and Inclusion and Sustainability and the Faculty Center are organizing a group of faculty and staff to read Amitav Ghosh’s The Nutmeg’s Curse in Fall 2025. A powerful work of history\, essay\, testimony\, and polemic\, The Nutmeg’s Curse traces our contemporary planetary crisis back to the discovery of the New World and the sea route to the Indian Ocean. The group will meet from 4:00-5:00pm on Tuesdays (September 16 & 30\, October 21\, November 4). Click here to register!
URL:https://facultycenter.openlab-dev.sunycreate.cloud/event/reading-group-amitav-ghoshs-the-nutmegs-curse-2/
CATEGORIES:Faculty Center Events,SUNY Oneonta Events
ATTACH;FMTTYPE=image/png:https://facultycenter.openlab-dev.sunycreate.cloud/wp-content/uploads/sites/368/2025/04/Screenshot-2025-04-16-at-10.50.20 AM.png
END:VEVENT
BEGIN:VEVENT
DTSTART;TZID=America/New_York:20250916T160000
DTEND;TZID=America/New_York:20250916T170000
DTSTAMP:20260420T230115
CREATED:20250416T145356Z
LAST-MODIFIED:20250416T145356Z
UID:1976-1758038400-1758042000@facultycenter.openlab-dev.sunycreate.cloud
SUMMARY:Reading Group – Amitav Ghosh’s The Nutmeg’s Curse
DESCRIPTION:The Offices of Equity and Inclusion and Sustainability and the Faculty Center are organizing a group of faculty and staff to read Amitav Ghosh’s The Nutmeg’s Curse in Fall 2025. A powerful work of history\, essay\, testimony\, and polemic\, The Nutmeg’s Curse traces our contemporary planetary crisis back to the discovery of the New World and the sea route to the Indian Ocean. The group will meet from 4:00-5:00pm on Tuesdays (September 16 & 30\, October 21\, November 4). Click here to register!
URL:https://facultycenter.openlab-dev.sunycreate.cloud/event/reading-group-amitav-ghoshs-the-nutmegs-curse/
CATEGORIES:Faculty Center Events,SUNY Oneonta Events
ATTACH;FMTTYPE=image/png:https://facultycenter.openlab-dev.sunycreate.cloud/wp-content/uploads/sites/368/2025/04/Screenshot-2025-04-16-at-10.50.20 AM.png
END:VEVENT
BEGIN:VEVENT
DTSTART;TZID=America/New_York:20250822T150000
DTEND;TZID=America/New_York:20250822T170000
DTSTAMP:20260420T230115
CREATED:20250516T193633Z
LAST-MODIFIED:20250516T193633Z
UID:2032-1755874800-1755882000@facultycenter.openlab-dev.sunycreate.cloud
SUMMARY:OTTER Institute 2025: Student panel on accessibility
DESCRIPTION:
URL:https://cpd.suny.edu/otter/
CATEGORIES:Off-Campus Events
ATTACH;FMTTYPE=image/png:https://facultycenter.openlab-dev.sunycreate.cloud/wp-content/uploads/sites/368/2025/05/172ef71bea0a4823a5ad21dee5c38856-505e1936.png
END:VEVENT
BEGIN:VEVENT
DTSTART;TZID=America/New_York:20250821T150000
DTEND;TZID=America/New_York:20250821T170000
DTSTAMP:20260420T230115
CREATED:20250516T193558Z
LAST-MODIFIED:20250516T193558Z
UID:2030-1755788400-1755795600@facultycenter.openlab-dev.sunycreate.cloud
SUMMARY:OTTER Institute 2025: Checklist and strategies to be prepared for the start of the new semester
DESCRIPTION:
URL:https://cpd.suny.edu/otter/
CATEGORIES:Off-Campus Events
ATTACH;FMTTYPE=image/png:https://facultycenter.openlab-dev.sunycreate.cloud/wp-content/uploads/sites/368/2025/05/172ef71bea0a4823a5ad21dee5c38856-505e1936.png
END:VEVENT
BEGIN:VEVENT
DTSTART;TZID=America/New_York:20250820T150000
DTEND;TZID=America/New_York:20250820T170000
DTSTAMP:20260420T230115
CREATED:20250516T193511Z
LAST-MODIFIED:20250516T193511Z
UID:2028-1755702000-1755709200@facultycenter.openlab-dev.sunycreate.cloud
SUMMARY:OTTER Institute 2025: Moderating challenging discussions (online or f2f) with students
DESCRIPTION:
URL:https://cpd.suny.edu/otter/
CATEGORIES:Off-Campus Events
ATTACH;FMTTYPE=image/png:https://facultycenter.openlab-dev.sunycreate.cloud/wp-content/uploads/sites/368/2025/05/172ef71bea0a4823a5ad21dee5c38856-505e1936.png
END:VEVENT
BEGIN:VEVENT
DTSTART;TZID=America/New_York:20250819T150000
DTEND;TZID=America/New_York:20250819T170000
DTSTAMP:20260420T230115
CREATED:20250516T193430Z
LAST-MODIFIED:20250516T193430Z
UID:2026-1755615600-1755622800@facultycenter.openlab-dev.sunycreate.cloud
SUMMARY:OTTER Institute 2025: Creating an inclusive environment for communicating with students
DESCRIPTION:
URL:https://cpd.suny.edu/otter/
CATEGORIES:Off-Campus Events
ATTACH;FMTTYPE=image/png:https://facultycenter.openlab-dev.sunycreate.cloud/wp-content/uploads/sites/368/2025/05/172ef71bea0a4823a5ad21dee5c38856-505e1936.png
END:VEVENT
BEGIN:VEVENT
DTSTART;TZID=America/New_York:20250818T150000
DTEND;TZID=America/New_York:20250818T170000
DTSTAMP:20260420T230115
CREATED:20250516T193335Z
LAST-MODIFIED:20250516T193335Z
UID:2024-1755529200-1755536400@facultycenter.openlab-dev.sunycreate.cloud
SUMMARY:OTTER Institute 2025: Effective disability statements and policies in your classroom
DESCRIPTION:
URL:https://cpd.suny.edu/otter/
CATEGORIES:Off-Campus Events
ATTACH;FMTTYPE=image/png:https://facultycenter.openlab-dev.sunycreate.cloud/wp-content/uploads/sites/368/2025/05/172ef71bea0a4823a5ad21dee5c38856-505e1936.png
END:VEVENT
BEGIN:VEVENT
DTSTART;TZID=America/New_York:20250801T000000
DTEND;TZID=America/New_York:20250801T235959
DTSTAMP:20260420T230115
CREATED:20250429T142423Z
LAST-MODIFIED:20250429T142423Z
UID:1998-1754006400-1754092799@facultycenter.openlab-dev.sunycreate.cloud
SUMMARY:Level 2: Best Practices in Online Teaching and Learning ends
DESCRIPTION:
URL:https://oneonta.campuslabs.com/engage/event/11289318
LOCATION:Online Event
CATEGORIES:Faculty Center Events
END:VEVENT
BEGIN:VEVENT
DTSTART;TZID=America/New_York:20250707T000000
DTEND;TZID=America/New_York:20250707T235959
DTSTAMP:20260420T230115
CREATED:20250429T142346Z
LAST-MODIFIED:20250429T142443Z
UID:1996-1751846400-1751932799@facultycenter.openlab-dev.sunycreate.cloud
SUMMARY:Level 2: Best Practices in Online Teaching and Learning begins
DESCRIPTION:
URL:https://oneonta.campuslabs.com/engage/event/11289318
LOCATION:Online Event
CATEGORIES:Faculty Center Events
ATTACH;FMTTYPE=image/jpeg:https://facultycenter.openlab-dev.sunycreate.cloud/wp-content/uploads/sites/368/2025/02/BestPractices.jpg
END:VEVENT
BEGIN:VEVENT
DTSTART;TZID=America/New_York:20250606T150000
DTEND;TZID=America/New_York:20250606T170000
DTSTAMP:20260420T230115
CREATED:20250516T193216Z
LAST-MODIFIED:20250516T193216Z
UID:2022-1749222000-1749229200@facultycenter.openlab-dev.sunycreate.cloud
SUMMARY:OTTER Institute 2025: Student panel on accessibility
DESCRIPTION:
URL:https://cpd.suny.edu/otter/
CATEGORIES:Off-Campus Events
ATTACH;FMTTYPE=image/png:https://facultycenter.openlab-dev.sunycreate.cloud/wp-content/uploads/sites/368/2025/05/172ef71bea0a4823a5ad21dee5c38856-505e1936.png
END:VEVENT
BEGIN:VEVENT
DTSTART;TZID=America/New_York:20250605T150000
DTEND;TZID=America/New_York:20250605T170000
DTSTAMP:20260420T230115
CREATED:20250516T193135Z
LAST-MODIFIED:20250516T193135Z
UID:2020-1749135600-1749142800@facultycenter.openlab-dev.sunycreate.cloud
SUMMARY:OTTER Institute 2025: Style guides and generating accessible and usable course materials
DESCRIPTION:
URL:https://cpd.suny.edu/otter/
CATEGORIES:Off-Campus Events
ATTACH;FMTTYPE=image/png:https://facultycenter.openlab-dev.sunycreate.cloud/wp-content/uploads/sites/368/2025/05/172ef71bea0a4823a5ad21dee5c38856-505e1936.png
END:VEVENT
BEGIN:VEVENT
DTSTART;TZID=America/New_York:20250604T150000
DTEND;TZID=America/New_York:20250604T170000
DTSTAMP:20260420T230115
CREATED:20250516T193049Z
LAST-MODIFIED:20250516T193049Z
UID:2018-1749049200-1749056400@facultycenter.openlab-dev.sunycreate.cloud
SUMMARY:OTTER Institute 2025: Brightspace accessibility tools for easier content creation
DESCRIPTION:
URL:https://cpd.suny.edu/otter/
CATEGORIES:Off-Campus Events
ATTACH;FMTTYPE=image/png:https://facultycenter.openlab-dev.sunycreate.cloud/wp-content/uploads/sites/368/2025/05/172ef71bea0a4823a5ad21dee5c38856-505e1936.png
END:VEVENT
BEGIN:VEVENT
DTSTART;TZID=America/New_York:20250603T150000
DTEND;TZID=America/New_York:20250603T170000
DTSTAMP:20260420T230115
CREATED:20250516T193008Z
LAST-MODIFIED:20250516T193008Z
UID:2016-1748962800-1748970000@facultycenter.openlab-dev.sunycreate.cloud
SUMMARY:OTTER Institute 2025: Top 10 accessibility issues: how to identify accessibility issues and options for remediation
DESCRIPTION:
URL:https://cpd.suny.edu/otter/
CATEGORIES:Off-Campus Events
ATTACH;FMTTYPE=image/png:https://facultycenter.openlab-dev.sunycreate.cloud/wp-content/uploads/sites/368/2025/05/172ef71bea0a4823a5ad21dee5c38856-505e1936.png
END:VEVENT
BEGIN:VEVENT
DTSTART;TZID=America/New_York:20250602T150000
DTEND;TZID=America/New_York:20250602T170000
DTSTAMP:20260420T230115
CREATED:20250516T192923Z
LAST-MODIFIED:20250516T192923Z
UID:2013-1748876400-1748883600@facultycenter.openlab-dev.sunycreate.cloud
SUMMARY:OTTER Institute 2025: Why accessibility matters and Developing a plan for content creation & modification
DESCRIPTION:
URL:https://cpd.suny.edu/otter/
CATEGORIES:Off-Campus Events
ATTACH;FMTTYPE=image/png:https://facultycenter.openlab-dev.sunycreate.cloud/wp-content/uploads/sites/368/2025/05/172ef71bea0a4823a5ad21dee5c38856-505e1936.png
END:VEVENT
BEGIN:VEVENT
DTSTART;TZID=America/New_York:20250529T110000
DTEND;TZID=America/New_York:20250529T130000
DTSTAMP:20260420T230115
CREATED:20250507T193408Z
LAST-MODIFIED:20250507T193408Z
UID:2009-1748516400-1748523600@facultycenter.openlab-dev.sunycreate.cloud
SUMMARY:Tri-Campus AI Pop-Up
DESCRIPTION:
URL:https://oneonta.campuslabs.com/engage/event/11297632
LOCATION:Hunt Union Waterfront
CATEGORIES:SUNY Oneonta Events
END:VEVENT
BEGIN:VEVENT
DTSTART;TZID=America/New_York:20250520T000000
DTEND;TZID=America/New_York:20250523T235959
DTSTAMP:20260420T230115
CREATED:20250207T140712Z
LAST-MODIFIED:20250207T140712Z
UID:1825-1747699200-1748044799@facultycenter.openlab-dev.sunycreate.cloud
SUMMARY:2025 Conference on Instruction & Technology (CIT)
DESCRIPTION:
URL:https://cit.suny.edu/cit-2025/
CATEGORIES:SUNY Oneonta Events
ATTACH;FMTTYPE=image/jpeg:https://facultycenter.openlab-dev.sunycreate.cloud/wp-content/uploads/sites/368/2025/02/CIT-Final-Web.jpg
END:VEVENT
BEGIN:VEVENT
DTSTART;TZID=America/New_York:20250519T113000
DTEND;TZID=America/New_York:20250519T130000
DTSTAMP:20260420T230115
CREATED:20250422T174508Z
LAST-MODIFIED:20250422T174508Z
UID:1992-1747654200-1747659600@facultycenter.openlab-dev.sunycreate.cloud
SUMMARY:Employee Spring BBQ
DESCRIPTION:
URL:https://forms.office.com/Pages/ResponsePage.aspx?id=qLHJsq3Rn0yRcnKKjAjrZUNWVDd4K1BLkdj1yPwIDFdUNDNZV1FNMFlGSklBTEdNS1VaUTJJNks5QS4u
LOCATION:Dewar Arena\, Alumni Field House
CATEGORIES:SUNY Oneonta Events
END:VEVENT
BEGIN:VEVENT
DTSTART;TZID=America/New_York:20250505T150000
DTEND;TZID=America/New_York:20250505T170000
DTSTAMP:20260420T230115
CREATED:20241002T211729Z
LAST-MODIFIED:20241003T231018Z
UID:1532-1746457200-1746464400@facultycenter.openlab-dev.sunycreate.cloud
SUMMARY:University Senate Meeting
DESCRIPTION:
URL:https://suny.oneonta.edu/university-senate
LOCATION:Craven Lounge\, Morris Conference Center
CATEGORIES:Standing Academic Meetings,SUNY Oneonta Events
END:VEVENT
BEGIN:VEVENT
DTSTART;TZID=America/New_York:20250501T150000
DTEND;TZID=America/New_York:20250501T160000
DTSTAMP:20260420T230115
CREATED:20250331T182204Z
LAST-MODIFIED:20250331T182204Z
UID:1963-1746111600-1746115200@facultycenter.openlab-dev.sunycreate.cloud
SUMMARY:Relationship Rich Education PLC
DESCRIPTION:Email Maurice Odago at maurice.odago@oneonta.edu for more information!
URL:https://facultycenter.openlab-dev.sunycreate.cloud/event/relationship-rich-education-plc-3/
LOCATION:Starbucks\, Hunt Union
CATEGORIES:Faculty Center Events,SUNY Oneonta Events
END:VEVENT
BEGIN:VEVENT
DTSTART;TZID=America/New_York:20250501T140000
DTEND;TZID=America/New_York:20250501T150000
DTSTAMP:20260420T230115
CREATED:20250313T170741Z
LAST-MODIFIED:20250313T170741Z
UID:1901-1746108000-1746111600@facultycenter.openlab-dev.sunycreate.cloud
SUMMARY:What’s Next: How to Sustain Multi-Institution Collaboration
DESCRIPTION:
URL:https://online.suny.edu/experiential_learning/event/whats-next-how-to-sustain-multi-institution-collaboration/
LOCATION:Online Event
CATEGORIES:Off-Campus Events
ATTACH;FMTTYPE=image/png:https://facultycenter.openlab-dev.sunycreate.cloud/wp-content/uploads/sites/368/2020/05/suny_fact2_feat.png
END:VEVENT
BEGIN:VEVENT
DTSTART;TZID=America/New_York:20250501T140000
DTEND;TZID=America/New_York:20250501T150000
DTSTAMP:20260420T230115
CREATED:20250212T133535Z
LAST-MODIFIED:20250212T133535Z
UID:1855-1746108000-1746111600@facultycenter.openlab-dev.sunycreate.cloud
SUMMARY:Accessible Pedagogy Community of Practice
DESCRIPTION:Join the Faculty Center for Accessible Pedagogy\, a new working group launching this spring. Faculty from across campus will meet regularly to discuss ways to make our classes more accessible for the benefit of all students. We’ll be reading Ashley Shew’s Against Technoableism: Rethinking Who Needs Improvement and discussing models for designing pedagogy for accessibility\, such as Universal Design for Learning. All disciplines and experience levels welcome! Email racheal.fest@oneonta.edu for more information or to attend.
URL:https://facultycenter.openlab-dev.sunycreate.cloud/event/accessible-pedagogy-community-of-practice-5/
LOCATION:Fitzelle Hall\, Faculty Lounge
CATEGORIES:Faculty Center Events,SUNY Oneonta Events
END:VEVENT
BEGIN:VEVENT
DTSTART;TZID=America/New_York:20250501T083000
DTEND;TZID=America/New_York:20250501T100000
DTSTAMP:20260420T230115
CREATED:20250210T175551Z
LAST-MODIFIED:20250210T175551Z
UID:1837-1746088200-1746093600@facultycenter.openlab-dev.sunycreate.cloud
SUMMARY:Teaching Breakfast
DESCRIPTION:
URL:https://connect.oneonta.edu/event/11046981
LOCATION:Hunt Union\, Butternut Valley Room
CATEGORIES:Faculty Center Events,SUNY Oneonta Events
ATTACH;FMTTYPE=image/png:https://facultycenter.openlab-dev.sunycreate.cloud/wp-content/uploads/sites/368/2025/02/Campus-Connection-Graphics-20.png
END:VEVENT
BEGIN:VEVENT
DTSTART;TZID=America/New_York:20250430T090000
DTEND;TZID=America/New_York:20250430T100000
DTSTAMP:20260420T230115
CREATED:20250331T172538Z
LAST-MODIFIED:20250331T172538Z
UID:1946-1746003600-1746007200@facultycenter.openlab-dev.sunycreate.cloud
SUMMARY:The Dual Edge of AI: Addressing or Widening Global Inequality?
DESCRIPTION:
URL:https://oneonta.campuslabs.com/engage/event/11215059
LOCATION:Great Room\, CRJIE
CATEGORIES:Faculty Center Events,SUNY Oneonta Events
ATTACH;FMTTYPE=image/png:https://facultycenter.openlab-dev.sunycreate.cloud/wp-content/uploads/sites/368/2025/03/Campus-Connection-Graphics-38.png
END:VEVENT
BEGIN:VEVENT
DTSTART;TZID=America/New_York:20250429T163000
DTEND;TZID=America/New_York:20250429T173000
DTSTAMP:20260420T230115
CREATED:20250331T172434Z
LAST-MODIFIED:20250331T172434Z
UID:1944-1745944200-1745947800@facultycenter.openlab-dev.sunycreate.cloud
SUMMARY:The Harambee Effect: Kenya's Spirit of Collective Innovation from Education\, through Environmental Conservation to Financial Inclusion
DESCRIPTION:
URL:https://oneonta.campuslabs.com/engage/event/11215060
LOCATION:Great Room\, CRJIE
CATEGORIES:Faculty Center Events,SUNY Oneonta Events
ATTACH;FMTTYPE=image/png:https://facultycenter.openlab-dev.sunycreate.cloud/wp-content/uploads/sites/368/2025/03/Campus-Connection-Graphics-39.png
END:VEVENT
BEGIN:VEVENT
DTSTART;TZID=America/New_York:20250429T110000
DTEND;TZID=America/New_York:20250429T120000
DTSTAMP:20260420T230115
CREATED:20250331T172337Z
LAST-MODIFIED:20250331T172337Z
UID:1937-1745924400-1745928000@facultycenter.openlab-dev.sunycreate.cloud
SUMMARY:DREAM: Embrace Learning as an Exciting and Empowering Adventure!
DESCRIPTION:
URL:https://oneonta.campuslabs.com/engage/event/11215057
LOCATION:Hunt Union\, Butternut Valley Room
CATEGORIES:Faculty Center Events,SUNY Oneonta Events
ATTACH;FMTTYPE=image/png:https://facultycenter.openlab-dev.sunycreate.cloud/wp-content/uploads/sites/368/2025/03/Campus-Connection-Graphics-37.png
END:VEVENT
BEGIN:VEVENT
DTSTART;TZID=America/New_York:20250428T150000
DTEND;TZID=America/New_York:20250428T160000
DTSTAMP:20260420T230115
CREATED:20250106T174547Z
LAST-MODIFIED:20250106T174547Z
UID:1751-1745852400-1745856000@facultycenter.openlab-dev.sunycreate.cloud
SUMMARY:University Teach-In
DESCRIPTION:The Office of the President will partner with departments across campus to host a series of institution-wide dialogue sessions\, teach-ins\, and mingles during the common meeting time (3 – 4 p.m. M\,W\,F) throughout the Spring 2025 semester. \nDuring teach-ins\, a unit or department will present on the operations\, functions\, and areas of collaboration related to their units and departments.  We will rotate by division and each division will work with their Vice President to choose the units or areas that will present.  These will all be held in Fitzelle 105 from 3-4 p.m. List of departments hosting these is being finalized.
URL:https://facultycenter.openlab-dev.sunycreate.cloud/event/university-teach-in-11/
LOCATION:Fitzelle Hall\, room 105
CATEGORIES:SUNY Oneonta Events
END:VEVENT
END:VCALENDAR