BEGIN:VCALENDAR
VERSION:2.0
PRODID:-//Faculty Center For Teaching, Learning &amp; Scholarship - ECPv6.15.17//NONSGML v1.0//EN
CALSCALE:GREGORIAN
METHOD:PUBLISH
X-ORIGINAL-URL:https://facultycenter.openlab-dev.sunycreate.cloud
X-WR-CALDESC:Events for Faculty Center For Teaching, Learning &amp; Scholarship
REFRESH-INTERVAL;VALUE=DURATION:PT1H
X-Robots-Tag:noindex
X-PUBLISHED-TTL:PT1H
BEGIN:VTIMEZONE
TZID:America/New_York
BEGIN:DAYLIGHT
TZOFFSETFROM:-0500
TZOFFSETTO:-0400
TZNAME:EDT
DTSTART:20230312T070000
END:DAYLIGHT
BEGIN:STANDARD
TZOFFSETFROM:-0400
TZOFFSETTO:-0500
TZNAME:EST
DTSTART:20231105T060000
END:STANDARD
BEGIN:DAYLIGHT
TZOFFSETFROM:-0500
TZOFFSETTO:-0400
TZNAME:EDT
DTSTART:20240310T070000
END:DAYLIGHT
BEGIN:STANDARD
TZOFFSETFROM:-0400
TZOFFSETTO:-0500
TZNAME:EST
DTSTART:20241103T060000
END:STANDARD
BEGIN:DAYLIGHT
TZOFFSETFROM:-0500
TZOFFSETTO:-0400
TZNAME:EDT
DTSTART:20250309T070000
END:DAYLIGHT
BEGIN:STANDARD
TZOFFSETFROM:-0400
TZOFFSETTO:-0500
TZNAME:EST
DTSTART:20251102T060000
END:STANDARD
BEGIN:DAYLIGHT
TZOFFSETFROM:-0500
TZOFFSETTO:-0400
TZNAME:EDT
DTSTART:20260308T070000
END:DAYLIGHT
BEGIN:STANDARD
TZOFFSETFROM:-0400
TZOFFSETTO:-0500
TZNAME:EST
DTSTART:20261101T060000
END:STANDARD
END:VTIMEZONE
BEGIN:VEVENT
DTSTART;TZID=America/New_York:20250117T163000
DTEND;TZID=America/New_York:20250117T183000
DTSTAMP:20260421T172135
CREATED:20250107T200051Z
LAST-MODIFIED:20250107T200051Z
UID:1782-1737131400-1737138600@facultycenter.openlab-dev.sunycreate.cloud
SUMMARY:Friday Social Hour at Muddy River
DESCRIPTION:Join us for a social hour at Muddy River’s Oneonta Tap Room! The Tap Room is located on the corner of Chestnut St and Winney Hill Rd\, in the West Gate Plaza.  There is food and non-alcoholic drinks as well\, so come join if you are interested in connecting with faculty outside of the campus day.  The address is West Gate Plaza\, 107 Winney Hill Rd Suite #1\, Oneonta\, NY 13820.
URL:https://facultycenter.openlab-dev.sunycreate.cloud/event/friday-social-hour-at-muddy-river-3/
LOCATION:Muddy River\, Suite #1\, 107 West Gate Plaza\, Oneonta\, NY\, 13820
CATEGORIES:Faculty Center Events,SUNY Oneonta Events
ATTACH;FMTTYPE=image/png:https://facultycenter.openlab-dev.sunycreate.cloud/wp-content/uploads/sites/368/2024/11/Campus-Connection-Graphics-1-e1732109553344.png
END:VEVENT
BEGIN:VEVENT
DTSTART;TZID=America/New_York:20250117T090000
DTEND;TZID=America/New_York:20250117T150000
DTSTAMP:20260421T172135
CREATED:20250106T173759Z
LAST-MODIFIED:20250106T173759Z
UID:1736-1737104400-1737126000@facultycenter.openlab-dev.sunycreate.cloud
SUMMARY:Institutional Success Day
DESCRIPTION:
URL:https://oneonta365.sharepoint.com/sites/InstitutionalResearch/SitePages/Institutional-Success-Day(1).aspx
LOCATION:Morris Hall
CATEGORIES:SUNY Oneonta Events
END:VEVENT
BEGIN:VEVENT
DTSTART;TZID=America/New_York:20250116T140000
DTEND;TZID=America/New_York:20250116T150000
DTSTAMP:20260421T172135
CREATED:20241217T174651Z
LAST-MODIFIED:20250102T210329Z
UID:1724-1737036000-1737039600@facultycenter.openlab-dev.sunycreate.cloud
SUMMARY:Partnering with Milne Library's ILAE Department
DESCRIPTION:In this session librarians from the Information Literacy and Academic Engagement (ILAE) Department will discuss library resources\, services\, and key contacts. This presentation will highlight instructional services including course-integrated library instruction\, a 1-credit library course\, scholarly communication services\, and ongoing programming in the library. Find out how the library can help you and your students with your unique information needs! \nThis session will take place in Milne Library\, Room 102 and on Teams.
URL:https://facultycenter.openlab-dev.sunycreate.cloud/event/partnering-with-milne-librarys-ilae-department/
LOCATION:Milne Library\, Room 102 and Teams
CATEGORIES:Faculty Center Events,SUNY Oneonta Events
ATTACH;FMTTYPE=image/png:https://facultycenter.openlab-dev.sunycreate.cloud/wp-content/uploads/sites/368/2024/12/Campus-Connection-Graphics-4-e1735851805546.png
END:VEVENT
BEGIN:VEVENT
DTSTART;TZID=America/New_York:20250116T090000
DTEND;TZID=America/New_York:20250116T113000
DTSTAMP:20260421T172135
CREATED:20250102T211338Z
LAST-MODIFIED:20250108T193104Z
UID:1730-1737018000-1737027000@facultycenter.openlab-dev.sunycreate.cloud
SUMMARY:Alternative Assessment in Brightspace
DESCRIPTION:In this session we will be exploring different ways to set up Brightspace that support Alternative Assessment techniques. This includes strategies such as ungrading\, specification grading\, and contract grading. Many of these focus on student feedback instead of student grades\, which is often challenging to set up in Brightspace. The first half of this session will focus on different techniques that can be used\, followed by some demonstrations of ways this has been implemented in Brightspace. The final portion will be time for participants to work on their own Brightspace set-ups and sharing best practices among those in the room. \nThis session will take place in Milne Library\, Room 102 and on Teams.
URL:https://connect.oneonta.edu/event/10825507
CATEGORIES:Faculty Center Events,SUNY Oneonta Events
ATTACH;FMTTYPE=image/png:https://facultycenter.openlab-dev.sunycreate.cloud/wp-content/uploads/sites/368/2025/01/Campus-Connection-Graphics-5-1-e1735852410306.png
END:VEVENT
BEGIN:VEVENT
DTSTART;TZID=America/New_York:20250115T130000
DTEND;TZID=America/New_York:20250115T140000
DTSTAMP:20260421T172135
CREATED:20250102T210154Z
LAST-MODIFIED:20250103T204119Z
UID:1727-1736946000-1736949600@facultycenter.openlab-dev.sunycreate.cloud
SUMMARY:Getting Started with OSCQR
DESCRIPTION:Join us for a 60-minute workshop introducing the OSCQR (Open SUNY Course Quality Review) Rubric\, a tool developed by distance learning faculty and professionals from across SUNY\, to enhance online course design and accessibility. This formative\, non-evaluative rubric focuses on best practices in organization\, functionality\, technology use\, accessibility\, and supporting regular and substantive interaction. The workshop will cover the main themes of the OSCQR rubric and provide hands-on experience with an Instructional Designer to identify and implement improvements in an online course. Faculty are also encouraged to bring a copy of their course syllabus for reference. \nThis session will take place in Milne Library\, Room 214.
URL:https://connect.oneonta.edu/event/10804263
CATEGORIES:Faculty Center Events,SUNY Oneonta Events
ATTACH;FMTTYPE=image/png:https://facultycenter.openlab-dev.sunycreate.cloud/wp-content/uploads/sites/368/2025/01/Campus-Connection-Graphics-5-e1735851768832.png
END:VEVENT
BEGIN:VEVENT
DTSTART;TZID=America/New_York:20250115T100000
DTEND;TZID=America/New_York:20250115T120000
DTSTAMP:20260421T172135
CREATED:20250107T194002Z
LAST-MODIFIED:20250108T173753Z
UID:1775-1736935200-1736942400@facultycenter.openlab-dev.sunycreate.cloud
SUMMARY:Question\, Persuade\, Refer (QPR) Training for Suicide Prevention
DESCRIPTION:
URL:https://oneonta.campuslabs.com/engage/event/10822159
LOCATION:Milne Library\, Room 102
CATEGORIES:Faculty Center Events,SUNY Oneonta Events
ATTACH;FMTTYPE=image/png:https://facultycenter.openlab-dev.sunycreate.cloud/wp-content/uploads/sites/368/2025/01/Campus-Connection-Graphics-6.png
END:VEVENT
BEGIN:VEVENT
DTSTART;TZID=America/New_York:20250114T140000
DTEND;TZID=America/New_York:20250114T150000
DTSTAMP:20260421T172135
CREATED:20241217T174514Z
LAST-MODIFIED:20250102T205344Z
UID:1722-1736863200-1736866800@facultycenter.openlab-dev.sunycreate.cloud
SUMMARY:Rethinking Assessment in the Age of AI
DESCRIPTION:Many students report using generative AI tools to support a range of academic tasks. This session will offer some resources and strategies for thinking about your assessments\, including writing and exams\, in this moment. We’ll talk about approaches to AI-resilient and AI-integrated assignments and steps you might take to make changes. \nThis session will take place in Milne Library\, Room 102 and on Teams.
URL:https://oneonta.campuslabs.com/engage/event/10788653
LOCATION:Milne Library\, Room 102 and Teams
CATEGORIES:Faculty Center Events,SUNY Oneonta Events
ATTACH;FMTTYPE=image/png:https://facultycenter.openlab-dev.sunycreate.cloud/wp-content/uploads/sites/368/2024/12/Campus-Connection-Graphics-2.png
END:VEVENT
BEGIN:VEVENT
DTSTART;TZID=America/New_York:20250114T110000
DTEND;TZID=America/New_York:20250114T120000
DTSTAMP:20260421T172135
CREATED:20250107T195300Z
LAST-MODIFIED:20250109T143022Z
UID:1779-1736852400-1736856000@facultycenter.openlab-dev.sunycreate.cloud
SUMMARY:Beyond the Traditional Discussion Board: Engaging Alternatives for Higher Education
DESCRIPTION:
URL:https://connect.oneonta.edu/event/10829400
LOCATION:Milne Library\, Room 102 and Teams
CATEGORIES:Faculty Center Events,SUNY Oneonta Events
ATTACH;FMTTYPE=image/png:https://facultycenter.openlab-dev.sunycreate.cloud/wp-content/uploads/sites/368/2025/01/Campus-Connection-Graphics-7.png
END:VEVENT
BEGIN:VEVENT
DTSTART;TZID=America/New_York:20250114T100000
DTEND;TZID=America/New_York:20250114T110000
DTSTAMP:20260421T172135
CREATED:20241217T174346Z
LAST-MODIFIED:20250102T205311Z
UID:1716-1736848800-1736852400@facultycenter.openlab-dev.sunycreate.cloud
SUMMARY:Teaching with Universal Design for Learning
DESCRIPTION:Universal Design for Learning (UDL) is a set of design principles that makes courses more accessible and meaningful for all students. Join the Faculty Center and the Office of Equity and Inclusion to learn about UDL principles and think through how to implement them in your classes. \nThis session will take place in Milne Library\, Room 102 and on Teams.
URL:https://oneonta.campuslabs.com/engage/event/10788656
LOCATION:Milne Library\, Room 102 and Teams
CATEGORIES:Faculty Center Events,SUNY Oneonta Events
ATTACH;FMTTYPE=image/png:https://facultycenter.openlab-dev.sunycreate.cloud/wp-content/uploads/sites/368/2024/12/Campus-Connection-Graphics-1.png
END:VEVENT
BEGIN:VEVENT
DTSTART;TZID=America/New_York:20250109T140000
DTEND;TZID=America/New_York:20250109T151500
DTSTAMP:20260421T172135
CREATED:20241126T183024Z
LAST-MODIFIED:20241126T183024Z
UID:1691-1736431200-1736435700@facultycenter.openlab-dev.sunycreate.cloud
SUMMARY:Teaching with AI: Building Critical AI Literacy While Advancing Existing Learning Outcomes
DESCRIPTION:
URL:https://web.cvent.com/event/2d8dbc98-0f7c-4678-ae2e-d3683e3054c6/summary
LOCATION:Online Event
CATEGORIES:Off-Campus Events
ATTACH;FMTTYPE=image/png:https://facultycenter.openlab-dev.sunycreate.cloud/wp-content/uploads/sites/368/2024/11/Screenshot-2024-11-26-at-1.30.04 PM.png
END:VEVENT
BEGIN:VEVENT
DTSTART;TZID=America/New_York:20241220T163000
DTEND;TZID=America/New_York:20241220T183000
DTSTAMP:20260421T172135
CREATED:20241120T133622Z
LAST-MODIFIED:20241120T133622Z
UID:1673-1734712200-1734719400@facultycenter.openlab-dev.sunycreate.cloud
SUMMARY:Friday Social Hour at Muddy River
DESCRIPTION:Join us for a social hour at Muddy River’s Oneonta Tap Room! The Tap Room is located on the corner of Chestnut St and Winney Hill Rd\, in the West Gate Plaza.  There is food and non-alcoholic drinks as well\, so come join if you are interested in connecting with faculty outside of the campus day.  The address is West Gate Plaza\, 107 Winney Hill Rd Suite #1\, Oneonta\, NY 13820.
URL:https://facultycenter.openlab-dev.sunycreate.cloud/event/friday-social-hour-at-muddy-river-2/
LOCATION:Muddy River\, Suite #1\, 107 West Gate Plaza\, Oneonta\, NY\, 13820
CATEGORIES:Faculty Center Events,SUNY Oneonta Events
ATTACH;FMTTYPE=image/png:https://facultycenter.openlab-dev.sunycreate.cloud/wp-content/uploads/sites/368/2024/11/Campus-Connection-Graphics-1-e1732109553344.png
END:VEVENT
BEGIN:VEVENT
DTSTART;TZID=America/New_York:20241218T130000
DTEND;TZID=America/New_York:20241218T150000
DTSTAMP:20260421T172135
CREATED:20241119T194536Z
LAST-MODIFIED:20241119T194700Z
UID:1666-1734526800-1734534000@facultycenter.openlab-dev.sunycreate.cloud
SUMMARY:Brightspace Open Work Session
DESCRIPTION:These work sessions are open to all faculty as you either work through grades in Brightspace or prepare your spring classes in Brightspace. Staff from the Faculty Center will be in the room to support you in working on your own course(s) and answer any questions that you may have. You can drop in at any time during this session to get help with your course materials. If you cannot make any of these sessions\, you can still make an individual appointment with the Faculty Center staff by submitting a request through the IT Service Portal. \n  \nThis session will be in the Faculty Center lounge\, Milne Library basement\, and in the Brightspace Work Sessions Teams link.
URL:https://facultycenter.openlab-dev.sunycreate.cloud/event/brightspace-open-work-session-3/
LOCATION:Faculty Center Lounge (Milne Basement) & Teams
CATEGORIES:Faculty Center Events,SUNY Oneonta Events
ATTACH;FMTTYPE=image/png:https://facultycenter.openlab-dev.sunycreate.cloud/wp-content/uploads/sites/368/2024/11/Campus-Connection-Graphics-2.43.58 PM.png
END:VEVENT
BEGIN:VEVENT
DTSTART;TZID=America/New_York:20241217T100000
DTEND;TZID=America/New_York:20241217T120000
DTSTAMP:20260421T172135
CREATED:20241119T194455Z
LAST-MODIFIED:20241119T194742Z
UID:1664-1734429600-1734436800@facultycenter.openlab-dev.sunycreate.cloud
SUMMARY:Brightspace Open Work Session
DESCRIPTION:These work sessions are open to all faculty as you either work through grades in Brightspace or prepare your spring classes in Brightspace. Staff from the Faculty Center will be in the room to support you in working on your own course(s) and answer any questions that you may have. You can drop in at any time during this session to get help with your course materials. If you cannot make any of these sessions\, you can still make an individual appointment with the Faculty Center staff by submitting a request through the IT Service Portal. \n  \nThis session will be in the Faculty Center lounge\, Milne Library basement\, and in the Brightspace Work Sessions Teams link.
URL:https://facultycenter.openlab-dev.sunycreate.cloud/event/brightspace-open-work-session-2/
LOCATION:Faculty Center Lounge (Milne Basement) & Teams
CATEGORIES:Faculty Center Events,SUNY Oneonta Events
ATTACH;FMTTYPE=image/png:https://facultycenter.openlab-dev.sunycreate.cloud/wp-content/uploads/sites/368/2024/11/Campus-Connection-Graphics-2.43.58 PM.png
END:VEVENT
BEGIN:VEVENT
DTSTART;TZID=America/New_York:20241216T100000
DTEND;TZID=America/New_York:20241216T120000
DTSTAMP:20260421T172135
CREATED:20241119T194411Z
LAST-MODIFIED:20241119T194756Z
UID:1661-1734343200-1734350400@facultycenter.openlab-dev.sunycreate.cloud
SUMMARY:Brightspace Open Work Session
DESCRIPTION:These work sessions are open to all faculty as you either work through grades in Brightspace or prepare your spring classes in Brightspace. Staff from the Faculty Center will be in the room to support you in working on your own course(s) and answer any questions that you may have. You can drop in at any time during this session to get help with your course materials. If you cannot make any of these sessions\, you can still make an individual appointment with the Faculty Center staff by submitting a request through the IT Service Portal. \n  \nThis session will be in the Faculty Center lounge\, Milne Library basement\, and in the Brightspace Work Sessions Teams link.
URL:https://facultycenter.openlab-dev.sunycreate.cloud/event/brightspace-open-work-session/
LOCATION:Faculty Center Lounge (Milne Basement) & Teams
CATEGORIES:Faculty Center Events,SUNY Oneonta Events
ATTACH;FMTTYPE=image/png:https://facultycenter.openlab-dev.sunycreate.cloud/wp-content/uploads/sites/368/2024/11/Campus-Connection-Graphics-2.43.58 PM.png
END:VEVENT
BEGIN:VEVENT
DTSTART;TZID=America/New_York:20241213T120000
DTEND;TZID=America/New_York:20241213T130000
DTSTAMP:20260421T172135
CREATED:20241118T204054Z
LAST-MODIFIED:20241118T204054Z
UID:1659-1734091200-1734094800@facultycenter.openlab-dev.sunycreate.cloud
SUMMARY:SUNY CPD Professional Development Week: Elevating Inclusion: Integrating Accessibility into Everyday Workflows
DESCRIPTION:
URL:https://web.cvent.com/event/71c9ca9a-81ef-40b8-b25e-9e239d59fdb4/websitePage:396bab29-f9f6-4d97-a7ad-8cbaf953bd29
LOCATION:Online Event
CATEGORIES:Off-Campus Events
ATTACH;FMTTYPE=image/png:https://facultycenter.openlab-dev.sunycreate.cloud/wp-content/uploads/sites/368/2024/11/Campus-Connection-Graphics.png
END:VEVENT
BEGIN:VEVENT
DTSTART;TZID=America/New_York:20241212T120000
DTEND;TZID=America/New_York:20241212T130000
DTSTAMP:20260421T172135
CREATED:20241118T204000Z
LAST-MODIFIED:20241118T204000Z
UID:1657-1734004800-1734008400@facultycenter.openlab-dev.sunycreate.cloud
SUMMARY:SUNY CPD Professional Development Week: Tips and Tricks for  Microsoft Teams Calling
DESCRIPTION:
URL:https://web.cvent.com/event/71c9ca9a-81ef-40b8-b25e-9e239d59fdb4/websitePage:eed51fb2-c9b5-46ec-aa22-b825646d5630
LOCATION:Online Event
CATEGORIES:Off-Campus Events
ATTACH;FMTTYPE=image/png:https://facultycenter.openlab-dev.sunycreate.cloud/wp-content/uploads/sites/368/2024/11/Campus-Connection-Graphics.png
END:VEVENT
BEGIN:VEVENT
DTSTART;TZID=America/New_York:20241211T120000
DTEND;TZID=America/New_York:20241211T130000
DTSTAMP:20260421T172135
CREATED:20241118T203905Z
LAST-MODIFIED:20241118T203905Z
UID:1655-1733918400-1733922000@facultycenter.openlab-dev.sunycreate.cloud
SUMMARY:SUNY CPD Professional Development Week: Assessing & Changing Your Workplace Culture
DESCRIPTION:
URL:https://web.cvent.com/event/71c9ca9a-81ef-40b8-b25e-9e239d59fdb4/websitePage:81458435-f7cb-4886-8b34-2edf2c8030f8
LOCATION:Online Event
CATEGORIES:Off-Campus Events
ATTACH;FMTTYPE=image/png:https://facultycenter.openlab-dev.sunycreate.cloud/wp-content/uploads/sites/368/2024/11/Campus-Connection-Graphics.png
END:VEVENT
BEGIN:VEVENT
DTSTART;TZID=America/New_York:20241210T120000
DTEND;TZID=America/New_York:20241210T130000
DTSTAMP:20260421T172135
CREATED:20241118T203817Z
LAST-MODIFIED:20241118T203817Z
UID:1653-1733832000-1733835600@facultycenter.openlab-dev.sunycreate.cloud
SUMMARY:SUNY CPD Professional Development Week: Maximizing the potential of Microsoft 365 Copilot
DESCRIPTION:
URL:https://web.cvent.com/event/71c9ca9a-81ef-40b8-b25e-9e239d59fdb4/websitePage:3e1d1f55-332f-43e7-89f7-67b3e6172528
LOCATION:Online Event
CATEGORIES:Off-Campus Events
ATTACH;FMTTYPE=image/png:https://facultycenter.openlab-dev.sunycreate.cloud/wp-content/uploads/sites/368/2024/11/Campus-Connection-Graphics.png
END:VEVENT
BEGIN:VEVENT
DTSTART;TZID=America/New_York:20241209T150000
DTEND;TZID=America/New_York:20241209T160000
DTSTAMP:20260421T172135
CREATED:20241002T210104Z
LAST-MODIFIED:20241003T231045Z
UID:1508-1733756400-1733760000@facultycenter.openlab-dev.sunycreate.cloud
SUMMARY:University Teach-In
DESCRIPTION:The Office of the President will partner with departments across campus to host a series of institution-wide teach-ins during the common meeting time (3 – 4 p.m. M\,W\,F) throughout the Fall 2024 semester. \nA unit or department will present on the operations\, functions\, and areas of collaboration related to their units and departments.  We will rotate by division and each division will work with their Vice President to choose the units or areas that will present. \nContact Karyn Wendrow\, Chief of Staff\, with any questions.
URL:https://facultycenter.openlab-dev.sunycreate.cloud/event/university-teach-in-4/
LOCATION:Hunt Union\, Oneonta Room
CATEGORIES:SUNY Oneonta Events
END:VEVENT
BEGIN:VEVENT
DTSTART;TZID=America/New_York:20241209T120000
DTEND;TZID=America/New_York:20241209T130000
DTSTAMP:20260421T172135
CREATED:20241118T203719Z
LAST-MODIFIED:20241118T203719Z
UID:1650-1733745600-1733749200@facultycenter.openlab-dev.sunycreate.cloud
SUMMARY:SUNY CPD Professional Development Week: Fostering a Culture of Professional Development
DESCRIPTION:
URL:https://web.cvent.com/event/71c9ca9a-81ef-40b8-b25e-9e239d59fdb4/websitePage:fb8f54bd-d46a-46ef-8597-0b12dc170d0a
LOCATION:Online Event
CATEGORIES:Off-Campus Events
ATTACH;FMTTYPE=image/png:https://facultycenter.openlab-dev.sunycreate.cloud/wp-content/uploads/sites/368/2024/11/Campus-Connection-Graphics.png
END:VEVENT
BEGIN:VEVENT
DTSTART;TZID=America/New_York:20241206T120000
DTEND;TZID=America/New_York:20241206T133000
DTSTAMP:20260421T172135
CREATED:20241028T143939Z
LAST-MODIFIED:20241031T184959Z
UID:1605-1733486400-1733491800@facultycenter.openlab-dev.sunycreate.cloud
SUMMARY:AI Tools Open House
DESCRIPTION:This session will give faculty and staff a chance to explore and experiment with AI tools in a collaborative environment. Stop by anytime during our open hours to try out tools like Perplexity\, ResearchRabbit\, Copilot\, and more. Chat about the tools\, share findings\, and ask questions with staff from the Faculty Center and Milne Library.
URL:https://oneonta.campuslabs.com/engage/event/10679426
CATEGORIES:Faculty Center Events,SUNY Oneonta Events
ATTACH;FMTTYPE=image/png:https://facultycenter.openlab-dev.sunycreate.cloud/wp-content/uploads/sites/368/2024/10/Campus-Connection-Graphics-3.png
END:VEVENT
BEGIN:VEVENT
DTSTART;TZID=America/New_York:20241206T080000
DTEND;TZID=America/New_York:20241206T170000
DTSTAMP:20260421T172135
CREATED:20241126T182843Z
LAST-MODIFIED:20241126T182843Z
UID:1689-1733472000-1733504400@facultycenter.openlab-dev.sunycreate.cloud
SUMMARY:Future Ready Fellows Application Deadline
DESCRIPTION:
URL:https://suny.oneonta.edu/faculty-center/future-ready-fellows-linking-course-learning-experiences-and-career-competencies
CATEGORIES:Faculty Center Events,SUNY Oneonta Events
END:VEVENT
BEGIN:VEVENT
DTSTART;TZID=America/New_York:20241205T083000
DTEND;TZID=America/New_York:20241205T100000
DTSTAMP:20260421T172135
CREATED:20241002T210014Z
LAST-MODIFIED:20241003T231920Z
UID:1506-1733387400-1733392800@facultycenter.openlab-dev.sunycreate.cloud
SUMMARY:Talking Teaching: A Community Roundtable with the Faculty Center
DESCRIPTION:The Talking Teaching discussions are a space to connect and talk about what’s new in the world of teaching and learning.  Each session will have a focus on a specific topic but can also be a space to talk about what is happening in the classroom and identify new modalities to explore.
URL:https://oneonta.campuslabs.com/engage/event/10444997
LOCATION:Hunt Union\, Oneonta Room
CATEGORIES:Faculty Center Events,SUNY Oneonta Events
ATTACH;FMTTYPE=image/png:https://facultycenter.openlab-dev.sunycreate.cloud/wp-content/uploads/sites/368/2024/10/Campus-Connection-Graphics.png
END:VEVENT
BEGIN:VEVENT
DTSTART;TZID=America/New_York:20241204T150000
DTEND;TZID=America/New_York:20241204T160000
DTSTAMP:20260421T172135
CREATED:20241002T205853Z
LAST-MODIFIED:20241003T231934Z
UID:1504-1733324400-1733328000@facultycenter.openlab-dev.sunycreate.cloud
SUMMARY:University Dialogue Session
DESCRIPTION:The Office of the President will partner with departments across campus to host a series of institution-wide dialogue sessions during the common meeting time (3:00 – 4:00pm M\,W\,F) throughout the Fall 2024 semester. \nA topic or question is posed for discussion and input. These are university-wide topics that would benefit from a discussion from broad array of stakeholders. These will all be held in IRC\, room 1. \nContact Karyn Wendrow\, Chief of Staff\, with any questions.
URL:https://facultycenter.openlab-dev.sunycreate.cloud/event/university-dialogue-session-3/
LOCATION:IRC\, Room 1
CATEGORIES:SUNY Oneonta Events
END:VEVENT
BEGIN:VEVENT
DTSTART;TZID=America/New_York:20241203T180000
DTEND;TZID=America/New_York:20241203T190000
DTSTAMP:20260421T172135
CREATED:20241126T155710Z
LAST-MODIFIED:20241126T155710Z
UID:1687-1733248800-1733252400@facultycenter.openlab-dev.sunycreate.cloud
SUMMARY:2024 Richard Siegfried Lecture: Visualizing Hollywood’s Gender Inequities Through Female Dialogue
DESCRIPTION:Dr. Chelsea McCracken\, assistant professor in the Department of Communication and Media\, has been awarded this year’s Richard Siegfried Junior Faculty Prize for Academic Excellence\, and will deliver the annual Richard Siegfried Lecture on Tuesday\, Dec. 3\, at 6 p.m.\, in the Craven Lounge\, Morris Conference Center. \nDr. McCracken’s lecture entitled “Visualizing Hollywood’s Gender Inequities Through Female Dialogue\,” will be introduced by Dr. Jeanine Minge\, Dean of the School of Liberal Arts and Business. A Q&A session and dessert reception will follow the lecture. This event is free and open to the public. LEAD credit is offered to students who attend.
URL:https://facultycenter.openlab-dev.sunycreate.cloud/event/2024-richard-siegfried-lecture-visualizing-hollywoods-gender-inequities-through-female-dialogue/
LOCATION:Craven Lounge\, Morris Conference Center
CATEGORIES:SUNY Oneonta Events
END:VEVENT
BEGIN:VEVENT
DTSTART;TZID=America/New_York:20241202T150000
DTEND;TZID=America/New_York:20241202T170000
DTSTAMP:20260421T172135
CREATED:20241002T211031Z
LAST-MODIFIED:20241003T231946Z
UID:1518-1733151600-1733158800@facultycenter.openlab-dev.sunycreate.cloud
SUMMARY:University Senate Meeting
DESCRIPTION:
URL:https://suny.oneonta.edu/university-senate
LOCATION:Craven Lounge\, Morris Conference Center
CATEGORIES:Standing Academic Meetings,SUNY Oneonta Events
END:VEVENT
BEGIN:VEVENT
DTSTART;TZID=America/New_York:20241126T000000
DTEND;TZID=America/New_York:20241126T235959
DTSTAMP:20260421T172135
CREATED:20241025T132600Z
LAST-MODIFIED:20241025T132600Z
UID:1602-1732579200-1732665599@facultycenter.openlab-dev.sunycreate.cloud
SUMMARY:Faculty Associate Application Deadline
DESCRIPTION:
URL:https://facultycenter.openlab-dev.sunycreate.cloud/faculty-associate-opportunities/
CATEGORIES:Faculty Center Events,SUNY Oneonta Events
END:VEVENT
BEGIN:VEVENT
DTSTART;TZID=America/New_York:20241125T150000
DTEND;TZID=America/New_York:20241125T160000
DTSTAMP:20260421T172135
CREATED:20241002T205732Z
LAST-MODIFIED:20241003T231957Z
UID:1502-1732546800-1732550400@facultycenter.openlab-dev.sunycreate.cloud
SUMMARY:University Teach-In
DESCRIPTION:The Office of the President will partner with departments across campus to host a series of institution-wide teach-ins during the common meeting time (3 – 4 p.m. M\,W\,F) throughout the Fall 2024 semester. \nA unit or department will present on the operations\, functions\, and areas of collaboration related to their units and departments.  We will rotate by division and each division will work with their Vice President to choose the units or areas that will present. \nContact Karyn Wendrow\, Chief of Staff\, with any questions.
URL:https://facultycenter.openlab-dev.sunycreate.cloud/event/university-teach-in-3/
LOCATION:Fitzelle Hall\, room 105
CATEGORIES:SUNY Oneonta Events
END:VEVENT
BEGIN:VEVENT
DTSTART;TZID=America/New_York:20241122T163000
DTEND;TZID=America/New_York:20241122T183000
DTSTAMP:20260421T172135
CREATED:20241120T133036Z
LAST-MODIFIED:20241120T133238Z
UID:1669-1732293000-1732300200@facultycenter.openlab-dev.sunycreate.cloud
SUMMARY:Friday Social Hour at Muddy River
DESCRIPTION:Join us for a social hour at Muddy River’s Oneonta Tap Room! The Tap Room is located on the corner of Chestnut St and Winney Hill Rd\, in the West Gate Plaza.  There is food and non-alcoholic drinks as well\, so come join if you are interested in connecting with faculty outside of the campus day.  The address is West Gate Plaza\, 107 Winney Hill Rd Suite #1\, Oneonta\, NY 13820.
URL:https://facultycenter.openlab-dev.sunycreate.cloud/event/friday-social-hour-at-muddy-river/
LOCATION:Muddy River\, Suite #1\, 107 West Gate Plaza\, Oneonta\, NY\, 13820
CATEGORIES:Faculty Center Events,SUNY Oneonta Events
ATTACH;FMTTYPE=image/png:https://facultycenter.openlab-dev.sunycreate.cloud/wp-content/uploads/sites/368/2024/11/Campus-Connection-Graphics-1-e1732109553344.png
END:VEVENT
BEGIN:VEVENT
DTSTART;TZID=America/New_York:20241122T000000
DTEND;TZID=America/New_York:20241122T235959
DTSTAMP:20260421T172135
CREATED:20241002T214413Z
LAST-MODIFIED:20241003T232009Z
UID:1539-1732233600-1732319999@facultycenter.openlab-dev.sunycreate.cloud
SUMMARY:Level 2: Best Practices in Online Teaching and Learning Ends
DESCRIPTION:This is the Level 2 Training course towards the Online Teaching Certification. Successful completion of this training and the SUNY DLE Brightspace Fundamentals Asynchronous Modules are required to teach online at SUNY Oneonta. \nThis 4-week course allows the participants to experience a fully online course as a student and work through the skills needed to successfully set up your own online courses.  While all of the work for this course can be done asynchronously\, there will be an opportunity each week for a synchronous session to connect with the instructors and the other participants.
URL:https://oneonta.campuslabs.com/engage/event/10343099
LOCATION:Online Event
CATEGORIES:Faculty Center Events,SUNY Oneonta Events
ATTACH;FMTTYPE=image/png:https://facultycenter.openlab-dev.sunycreate.cloud/wp-content/uploads/sites/368/2024/10/Campus-Connection-Graphics-2.png
END:VEVENT
END:VCALENDAR