BEGIN:VCALENDAR
VERSION:2.0
PRODID:-//Faculty Center For Teaching, Learning &amp; Scholarship - ECPv6.15.17//NONSGML v1.0//EN
CALSCALE:GREGORIAN
METHOD:PUBLISH
X-WR-CALNAME:Faculty Center For Teaching, Learning &amp; Scholarship
X-ORIGINAL-URL:https://facultycenter.openlab-dev.sunycreate.cloud
X-WR-CALDESC:Events for Faculty Center For Teaching, Learning &amp; Scholarship
REFRESH-INTERVAL;VALUE=DURATION:PT1H
X-Robots-Tag:noindex
X-PUBLISHED-TTL:PT1H
BEGIN:VTIMEZONE
TZID:America/New_York
BEGIN:DAYLIGHT
TZOFFSETFROM:-0500
TZOFFSETTO:-0400
TZNAME:EDT
DTSTART:20240310T070000
END:DAYLIGHT
BEGIN:STANDARD
TZOFFSETFROM:-0400
TZOFFSETTO:-0500
TZNAME:EST
DTSTART:20241103T060000
END:STANDARD
BEGIN:DAYLIGHT
TZOFFSETFROM:-0500
TZOFFSETTO:-0400
TZNAME:EDT
DTSTART:20250309T070000
END:DAYLIGHT
BEGIN:STANDARD
TZOFFSETFROM:-0400
TZOFFSETTO:-0500
TZNAME:EST
DTSTART:20251102T060000
END:STANDARD
BEGIN:DAYLIGHT
TZOFFSETFROM:-0500
TZOFFSETTO:-0400
TZNAME:EDT
DTSTART:20260308T070000
END:DAYLIGHT
BEGIN:STANDARD
TZOFFSETFROM:-0400
TZOFFSETTO:-0500
TZNAME:EST
DTSTART:20261101T060000
END:STANDARD
END:VTIMEZONE
BEGIN:VEVENT
DTSTART;TZID=America/New_York:20250418T163000
DTEND;TZID=America/New_York:20250418T183000
DTSTAMP:20260421T044901
CREATED:20250317T135418Z
LAST-MODIFIED:20250317T164121Z
UID:1904-1744993800-1745001000@facultycenter.openlab-dev.sunycreate.cloud
SUMMARY:Friday Social Hour at Muddy River
DESCRIPTION:
URL:https://oneonta.campuslabs.com/engage/event/11173097
LOCATION:Muddy River\, Suite #1\, 107 West Gate Plaza\, Oneonta\, NY\, 13820
CATEGORIES:Faculty Center Events,SUNY Oneonta Events
ATTACH;FMTTYPE=image/png:https://facultycenter.openlab-dev.sunycreate.cloud/wp-content/uploads/sites/368/2024/11/Campus-Connection-Graphics-1-e1732109553344.png
END:VEVENT
BEGIN:VEVENT
DTSTART;TZID=America/New_York:20250418T150000
DTEND;TZID=America/New_York:20250418T160000
DTSTAMP:20260421T044901
CREATED:20250106T175214Z
LAST-MODIFIED:20250106T175214Z
UID:1767-1744988400-1744992000@facultycenter.openlab-dev.sunycreate.cloud
SUMMARY:Campus Mingle
DESCRIPTION:The Office of the President will partner with departments across campus to host a series of institution-wide dialogue sessions\, teach-ins\, and mingles during the common meeting time (3 – 4 p.m. M\,W\,F) throughout the Spring 2025 semester. \nDuring the campus mingles\, a unit or department will host an open house-style mingle in their office(s) and provide information/materials about their functions. These will be especially appropriate for units that are location dependent. We will rotate by division and each division will work with their Vice President to determine the schedule for units that should or would like to host. 3-4 p.m. Location TBD — see bulletin for additional details.
URL:https://facultycenter.openlab-dev.sunycreate.cloud/event/campus-mingle-6/
CATEGORIES:SUNY Oneonta Events
END:VEVENT
BEGIN:VEVENT
DTSTART;TZID=America/New_York:20250418T110000
DTEND;TZID=America/New_York:20250418T120000
DTSTAMP:20260421T044901
CREATED:20250324T174504Z
LAST-MODIFIED:20250331T172853Z
UID:1917-1744974000-1744977600@facultycenter.openlab-dev.sunycreate.cloud
SUMMARY:Ally & Accessibility in Brightspace
DESCRIPTION:
URL:https://oneonta.campuslabs.com/engage/event/11215036
LOCATION:Milne 214
CATEGORIES:Faculty Center Events,SUNY Oneonta Events
ATTACH;FMTTYPE=image/png:https://facultycenter.openlab-dev.sunycreate.cloud/wp-content/uploads/sites/368/2025/03/Campus-Connection-Graphics-33.png
END:VEVENT
BEGIN:VEVENT
DTSTART;TZID=America/New_York:20250417T140000
DTEND;TZID=America/New_York:20250417T150000
DTSTAMP:20260421T044901
CREATED:20250313T170610Z
LAST-MODIFIED:20250313T170610Z
UID:1897-1744898400-1744902000@facultycenter.openlab-dev.sunycreate.cloud
SUMMARY:Experiential Learning for a Thriving Planet: Education\, Action\, and Impact
DESCRIPTION:
URL:https://online.suny.edu/experiential_learning/event/experiential-learning-for-a-thriving-planet-education-action-and-impact/
LOCATION:Online Event
CATEGORIES:Off-Campus Events
ATTACH;FMTTYPE=image/png:https://facultycenter.openlab-dev.sunycreate.cloud/wp-content/uploads/sites/368/2020/05/suny_fact2_feat.png
END:VEVENT
BEGIN:VEVENT
DTSTART;TZID=America/New_York:20250417T140000
DTEND;TZID=America/New_York:20250417T150000
DTSTAMP:20260421T044901
CREATED:20250212T133447Z
LAST-MODIFIED:20250212T133447Z
UID:1853-1744898400-1744902000@facultycenter.openlab-dev.sunycreate.cloud
SUMMARY:Accessible Pedagogy Community of Practice
DESCRIPTION:Join the Faculty Center for Accessible Pedagogy\, a new working group launching this spring. Faculty from across campus will meet regularly to discuss ways to make our classes more accessible for the benefit of all students. We’ll be reading Ashley Shew’s Against Technoableism: Rethinking Who Needs Improvement and discussing models for designing pedagogy for accessibility\, such as Universal Design for Learning. All disciplines and experience levels welcome! Email racheal.fest@oneonta.edu for more information or to attend.
URL:https://facultycenter.openlab-dev.sunycreate.cloud/event/accessible-pedagogy-community-of-practice-4/
LOCATION:Fitzelle Hall\, Faculty Lounge
CATEGORIES:Faculty Center Events,SUNY Oneonta Events
END:VEVENT
BEGIN:VEVENT
DTSTART;TZID=America/New_York:20250417T110000
DTEND;TZID=America/New_York:20250417T120000
DTSTAMP:20260421T044901
CREATED:20250331T174235Z
LAST-MODIFIED:20250331T174235Z
UID:1952-1744887600-1744891200@facultycenter.openlab-dev.sunycreate.cloud
SUMMARY:Understanding Protesting
DESCRIPTION:
URL:https://oneonta.campuslabs.com/engage/event/11215065
LOCATION:Craven Lounge\, Morris Conference Center
CATEGORIES:Faculty Center Events,SUNY Oneonta Events
ATTACH;FMTTYPE=image/png:https://facultycenter.openlab-dev.sunycreate.cloud/wp-content/uploads/sites/368/2025/03/Campus-Connection-Graphics-41.png
END:VEVENT
BEGIN:VEVENT
DTSTART;TZID=America/New_York:20250416T090000
DTEND;TZID=America/New_York:20250416T170000
DTSTAMP:20260421T044901
CREATED:20250128T184244Z
LAST-MODIFIED:20250128T184244Z
UID:1795-1744794000-1744822800@facultycenter.openlab-dev.sunycreate.cloud
SUMMARY:Student Research & Creative Activity (SRCA) Showcase
DESCRIPTION:
URL:https://suny.oneonta.edu/scholarly-activities/student-research-creative-activity-showcase
LOCATION:Hunt Union Ballroom
CATEGORIES:SUNY Oneonta Events
ATTACH;FMTTYPE=image/png:https://facultycenter.openlab-dev.sunycreate.cloud/wp-content/uploads/sites/368/2025/01/Screenshot-2025-01-28-at-1.41.57 PM.png
END:VEVENT
BEGIN:VEVENT
DTSTART;TZID=America/New_York:20250415T083000
DTEND;TZID=America/New_York:20250415T124500
DTSTAMP:20260421T044901
CREATED:20250328T163020Z
LAST-MODIFIED:20250328T163020Z
UID:1932-1744705800-1744721100@facultycenter.openlab-dev.sunycreate.cloud
SUMMARY:Surviving the Survival Metaphor: Leading\, Not Just Lasting in Academic Middle Management
DESCRIPTION:
URL:https://oneonta.campuslabs.com/engage/event/11210636
LOCATION:Martha Pratt Suite\, Human Ecology Building
CATEGORIES:Faculty Center Events,SUNY Oneonta Events
ATTACH;FMTTYPE=image/png:https://facultycenter.openlab-dev.sunycreate.cloud/wp-content/uploads/sites/368/2025/03/Campus-Connection-Graphics-35.png
END:VEVENT
BEGIN:VEVENT
DTSTART;TZID=America/New_York:20250414T150000
DTEND;TZID=America/New_York:20250414T160000
DTSTAMP:20260421T044901
CREATED:20250106T174512Z
LAST-MODIFIED:20250106T174516Z
UID:1749-1744642800-1744646400@facultycenter.openlab-dev.sunycreate.cloud
SUMMARY:University Teach-In
DESCRIPTION:The Office of the President will partner with departments across campus to host a series of institution-wide dialogue sessions\, teach-ins\, and mingles during the common meeting time (3 – 4 p.m. M\,W\,F) throughout the Spring 2025 semester. \nDuring teach-ins\, a unit or department will present on the operations\, functions\, and areas of collaboration related to their units and departments.  We will rotate by division and each division will work with their Vice President to choose the units or areas that will present.  These will all be held in Fitzelle 105 from 3-4 p.m. List of departments hosting these is being finalized.
URL:https://facultycenter.openlab-dev.sunycreate.cloud/event/university-teach-in-10/
LOCATION:Fitzelle Hall\, room 105
CATEGORIES:SUNY Oneonta Events
END:VEVENT
BEGIN:VEVENT
DTSTART;TZID=America/New_York:20250414T140000
DTEND;TZID=America/New_York:20250414T150000
DTSTAMP:20260421T044901
CREATED:20250331T173253Z
LAST-MODIFIED:20250331T173253Z
UID:1948-1744639200-1744642800@facultycenter.openlab-dev.sunycreate.cloud
SUMMARY:Followers\, Friends\, or More?: Navigating Layers of Digital Intimacy
DESCRIPTION:
URL:https://oneonta.campuslabs.com/engage/event/11215044
LOCATION:Craven Lounge\, Morris Conference Center
CATEGORIES:Faculty Center Events,SUNY Oneonta Events
ATTACH;FMTTYPE=image/png:https://facultycenter.openlab-dev.sunycreate.cloud/wp-content/uploads/sites/368/2025/03/Campus-Connection-Graphics-36.png
END:VEVENT
BEGIN:VEVENT
DTSTART;TZID=America/New_York:20250410T150000
DTEND;TZID=America/New_York:20250410T160000
DTSTAMP:20260421T044901
CREATED:20250331T182037Z
LAST-MODIFIED:20250331T182037Z
UID:1958-1744297200-1744300800@facultycenter.openlab-dev.sunycreate.cloud
SUMMARY:Relationship Rich Education PLC
DESCRIPTION:Email Maurice Odago at maurice.odago@oneonta.edu for more information!
URL:https://facultycenter.openlab-dev.sunycreate.cloud/event/relationship-rich-education-plc/
LOCATION:Starbucks\, Hunt Union
CATEGORIES:Faculty Center Events,SUNY Oneonta Events
END:VEVENT
BEGIN:VEVENT
DTSTART;TZID=America/New_York:20250410T140000
DTEND;TZID=America/New_York:20250410T150000
DTSTAMP:20260421T044901
CREATED:20250313T170522Z
LAST-MODIFIED:20250313T170522Z
UID:1895-1744293600-1744297200@facultycenter.openlab-dev.sunycreate.cloud
SUMMARY:Making Every Course Experiential: Strategies for Curricular Integration
DESCRIPTION:
URL:https://online.suny.edu/experiential_learning/event/making-every-course-experiential-strategies-for-curricular-integration/
LOCATION:Online Event
CATEGORIES:Off-Campus Events
ATTACH;FMTTYPE=image/png:https://facultycenter.openlab-dev.sunycreate.cloud/wp-content/uploads/sites/368/2020/05/suny_fact2_feat.png
END:VEVENT
BEGIN:VEVENT
DTSTART;TZID=America/New_York:20250410T113000
DTEND;TZID=America/New_York:20250410T123000
DTSTAMP:20260421T044901
CREATED:20250317T185054Z
LAST-MODIFIED:20250318T202007Z
UID:1910-1744284600-1744288200@facultycenter.openlab-dev.sunycreate.cloud
SUMMARY:Faculty Lunch Hour
DESCRIPTION:
URL:https://oneonta.campuslabs.com/engage/event/11179387
LOCATION:Mills Dining Hall
CATEGORIES:Faculty Center Events,SUNY Oneonta Events
ATTACH;FMTTYPE=image/png:https://facultycenter.openlab-dev.sunycreate.cloud/wp-content/uploads/sites/368/2025/01/Campus-Connection-Graphics-18.png
END:VEVENT
BEGIN:VEVENT
DTSTART;TZID=America/New_York:20250410T083000
DTEND;TZID=America/New_York:20250410T100000
DTSTAMP:20260421T044901
CREATED:20250325T151015Z
LAST-MODIFIED:20250326T133348Z
UID:1923-1744273800-1744279200@facultycenter.openlab-dev.sunycreate.cloud
SUMMARY:AI & Writing: A Part of the Talking Teaching Roundtable Series
DESCRIPTION:
URL:https://oneonta.campuslabs.com/engage/event/11201996
LOCATION:Hunt Union\, Butternut Valley Room
CATEGORIES:Faculty Center Events,SUNY Oneonta Events
ATTACH;FMTTYPE=image/jpeg:https://facultycenter.openlab-dev.sunycreate.cloud/wp-content/uploads/sites/368/2025/03/Teaching-breakfast.jpeg
END:VEVENT
BEGIN:VEVENT
DTSTART;TZID=America/New_York:20250410T000000
DTEND;TZID=America/New_York:20250411T235959
DTSTAMP:20260421T044901
CREATED:20250408T171722Z
LAST-MODIFIED:20250408T171722Z
UID:1966-1744243200-1744415999@facultycenter.openlab-dev.sunycreate.cloud
SUMMARY:SUNY ILN Spring Conference
DESCRIPTION:
URL:https://docs.google.com/forms/d/1dTegT1ikbAVdZ8qbtyagIreEcVraHqkzWVgSur_kuwg/viewform?edit_requested=true
CATEGORIES:SUNY Oneonta Events
END:VEVENT
BEGIN:VEVENT
DTSTART;TZID=America/New_York:20250409T190000
DTEND;TZID=America/New_York:20250409T200000
DTSTAMP:20260421T044901
CREATED:20241121T203312Z
LAST-MODIFIED:20241121T203312Z
UID:1675-1744225200-1744228800@facultycenter.openlab-dev.sunycreate.cloud
SUMMARY:Cornell-Gladstone-Hanlon-Kaufmann Lecturer in Environmental Education and Communication: Robin Wall Kimmerer
DESCRIPTION:
URL:https://connect.oneonta.edu/event/10740800
LOCATION:Hunt Union Ballroom
CATEGORIES:SUNY Oneonta Events
ATTACH;FMTTYPE=image/jpeg:https://facultycenter.openlab-dev.sunycreate.cloud/wp-content/uploads/sites/368/2024/11/braidingsweetgrass_pb_coverthumb-e1732221175227.jpg
END:VEVENT
BEGIN:VEVENT
DTSTART;TZID=America/New_York:20250408T140000
DTEND;TZID=America/New_York:20250408T160000
DTSTAMP:20260421T044901
CREATED:20250321T150331Z
LAST-MODIFIED:20250325T151109Z
UID:1913-1744120800-1744128000@facultycenter.openlab-dev.sunycreate.cloud
SUMMARY:Brightspace Open Work Session
DESCRIPTION:
URL:https://oneonta.campuslabs.com/engage/event/11197692
LOCATION:Milne 214
CATEGORIES:Faculty Center Events,SUNY Oneonta Events
ATTACH;FMTTYPE=image/png:https://facultycenter.openlab-dev.sunycreate.cloud/wp-content/uploads/sites/368/2024/10/Campus-Connection-Graphics-2.png
END:VEVENT
BEGIN:VEVENT
DTSTART;TZID=America/New_York:20250407T150000
DTEND;TZID=America/New_York:20250407T170000
DTSTAMP:20260421T044901
CREATED:20241002T211538Z
LAST-MODIFIED:20241003T231800Z
UID:1528-1744038000-1744045200@facultycenter.openlab-dev.sunycreate.cloud
SUMMARY:University Senate Meeting
DESCRIPTION:
URL:https://suny.oneonta.edu/university-senate
LOCATION:Craven Lounge\, Morris Conference Center
CATEGORIES:Standing Academic Meetings,SUNY Oneonta Events
END:VEVENT
BEGIN:VEVENT
DTSTART;TZID=America/New_York:20250407T150000
DTEND;TZID=America/New_York:20250407T160000
DTSTAMP:20260421T044901
CREATED:20250331T181809Z
LAST-MODIFIED:20250331T181809Z
UID:1955-1744038000-1744041600@facultycenter.openlab-dev.sunycreate.cloud
SUMMARY:Support for Queer and Trans Students at SUNY Oneonta: A Lightning Session Across Campus
DESCRIPTION:
URL:https://connect.oneonta.edu/event/11145397
LOCATION:Hunt Union Waterfront
CATEGORIES:SUNY Oneonta Events
END:VEVENT
BEGIN:VEVENT
DTSTART;TZID=America/New_York:20250405T000000
DTEND;TZID=America/New_York:20250411T235959
DTSTAMP:20260421T044901
CREATED:20250218T131337Z
LAST-MODIFIED:20250321T150448Z
UID:1858-1743811200-1744415999@facultycenter.openlab-dev.sunycreate.cloud
SUMMARY:Green Dragon Week
DESCRIPTION:
URL:https://suny.oneonta.edu/sustainability/green-dragon-week
CATEGORIES:SUNY Oneonta Events
END:VEVENT
BEGIN:VEVENT
DTSTART;TZID=America/New_York:20250404T150000
DTEND;TZID=America/New_York:20250404T160000
DTSTAMP:20260421T044901
CREATED:20250324T174833Z
LAST-MODIFIED:20250324T174833Z
UID:1921-1743778800-1743782400@facultycenter.openlab-dev.sunycreate.cloud
SUMMARY:SDG Series: Applying Economics to Maternal Health Disparities
DESCRIPTION:
URL:https://oneonta.campuslabs.com/engage/event/11191765
LOCATION:Morris Conference Center\, Otsego Grille
CATEGORIES:SUNY Oneonta Events
END:VEVENT
BEGIN:VEVENT
DTSTART;TZID=America/New_York:20250403T140000
DTEND;TZID=America/New_York:20250403T150000
DTSTAMP:20260421T044901
CREATED:20250313T170430Z
LAST-MODIFIED:20250313T170430Z
UID:1893-1743688800-1743692400@facultycenter.openlab-dev.sunycreate.cloud
SUMMARY:Internships That Work: Designing Scalable\, Supportive Models for Students & Mentors
DESCRIPTION:
URL:https://online.suny.edu/experiential_learning/event/internships-that-work-designing-scalable-supportive-models-for-students-mentors/
LOCATION:Online Event
CATEGORIES:Off-Campus Events
ATTACH;FMTTYPE=image/png:https://facultycenter.openlab-dev.sunycreate.cloud/wp-content/uploads/sites/368/2020/05/suny_fact2_feat.png
END:VEVENT
BEGIN:VEVENT
DTSTART;TZID=America/New_York:20250403T140000
DTEND;TZID=America/New_York:20250403T150000
DTSTAMP:20260421T044901
CREATED:20250212T133401Z
LAST-MODIFIED:20250212T133410Z
UID:1851-1743688800-1743692400@facultycenter.openlab-dev.sunycreate.cloud
SUMMARY:Accessible Pedagogy Community of Practice
DESCRIPTION:Join the Faculty Center for Accessible Pedagogy\, a new working group launching this spring. Faculty from across campus will meet regularly to discuss ways to make our classes more accessible for the benefit of all students. We’ll be reading Ashley Shew’s Against Technoableism: Rethinking Who Needs Improvement and discussing models for designing pedagogy for accessibility\, such as Universal Design for Learning. All disciplines and experience levels welcome! Email racheal.fest@oneonta.edu for more information or to attend.
URL:https://facultycenter.openlab-dev.sunycreate.cloud/event/accessible-pedagogy-community-of-practice-3/
LOCATION:Fitzelle Hall\, Faculty Lounge
CATEGORIES:Faculty Center Events,SUNY Oneonta Events
END:VEVENT
BEGIN:VEVENT
DTSTART;TZID=America/New_York:20250402T150000
DTEND;TZID=America/New_York:20250402T160000
DTSTAMP:20260421T044901
CREATED:20250106T174849Z
LAST-MODIFIED:20250106T174849Z
UID:1757-1743606000-1743609600@facultycenter.openlab-dev.sunycreate.cloud
SUMMARY:President's Dialogue Session
DESCRIPTION:The Office of the President will partner with departments across campus to host a series of institution-wide dialogue sessions\, teach-ins\, and mingles during the common meeting time (3 – 4 p.m. M\,W\,F) throughout the Spring 2025 semester. \nDuring the dialogue sessions\, a topic or question is posed for discussion with President Cardelle and other University leaders. These are university-wide topics that would benefit from a discussion from broad array of stakeholders. These will all be held in IRC\, room 1\, from 3 – 4 p.m.
URL:https://facultycenter.openlab-dev.sunycreate.cloud/event/presidents-dialogue-session/
LOCATION:IRC\, Room 1
CATEGORIES:SUNY Oneonta Events
END:VEVENT
BEGIN:VEVENT
DTSTART;TZID=America/New_York:20250402T143000
DTEND;TZID=America/New_York:20250402T163000
DTSTAMP:20260421T044901
CREATED:20250327T145513Z
LAST-MODIFIED:20250327T145513Z
UID:1929-1743604200-1743611400@facultycenter.openlab-dev.sunycreate.cloud
SUMMARY:Breaking the Stigma: Autism Awareness
DESCRIPTION:
URL:https://oneonta.campuslabs.com/engage/event/11150515
LOCATION:Fitzelle Hall Lobby
CATEGORIES:SUNY Oneonta Events
END:VEVENT
BEGIN:VEVENT
DTSTART;TZID=America/New_York:20250402T130000
DTEND;TZID=America/New_York:20250402T160000
DTSTAMP:20260421T044901
CREATED:20250325T162919Z
LAST-MODIFIED:20250325T162919Z
UID:1925-1743598800-1743609600@facultycenter.openlab-dev.sunycreate.cloud
SUMMARY:Open House: Counseling Center and Health Center
DESCRIPTION:
URL:https://oneonta.campuslabs.com/engage/event/11140759
LOCATION:Health & Wellness Center
CATEGORIES:SUNY Oneonta Events
ATTACH;FMTTYPE=image/png:https://facultycenter.openlab-dev.sunycreate.cloud/wp-content/uploads/sites/368/2025/03/Screenshot-2025-03-25-at-12.29.05 PM.png
END:VEVENT
BEGIN:VEVENT
DTSTART;TZID=America/New_York:20250331T150000
DTEND;TZID=America/New_York:20250331T160000
DTSTAMP:20260421T044901
CREATED:20250106T174436Z
LAST-MODIFIED:20250106T174436Z
UID:1747-1743433200-1743436800@facultycenter.openlab-dev.sunycreate.cloud
SUMMARY:University Teach-In
DESCRIPTION:The Office of the President will partner with departments across campus to host a series of institution-wide dialogue sessions\, teach-ins\, and mingles during the common meeting time (3 – 4 p.m. M\,W\,F) throughout the Spring 2025 semester. \nDuring teach-ins\, a unit or department will present on the operations\, functions\, and areas of collaboration related to their units and departments.  We will rotate by division and each division will work with their Vice President to choose the units or areas that will present.  These will all be held in Fitzelle 105 from 3-4 p.m. List of departments hosting these is being finalized.
URL:https://facultycenter.openlab-dev.sunycreate.cloud/event/university-teach-in-9/
LOCATION:Fitzelle Hall\, room 105
CATEGORIES:SUNY Oneonta Events
END:VEVENT
BEGIN:VEVENT
DTSTART;TZID=America/New_York:20250329T090000
DTEND;TZID=America/New_York:20250329T170000
DTSTAMP:20260421T044901
CREATED:20241209T142718Z
LAST-MODIFIED:20241209T142718Z
UID:1711-1743238800-1743267600@facultycenter.openlab-dev.sunycreate.cloud
SUMMARY:Student Diversity & Leadership Conference
DESCRIPTION:
URL:https://suny.oneonta.edu/office-equity-and-inclusion/leadership-opportunities
LOCATION:Center for Racial Justice & Inclusive Excellence
ATTACH;FMTTYPE=image/png:https://facultycenter.openlab-dev.sunycreate.cloud/wp-content/uploads/sites/368/2024/12/Screenshot-2024-12-09-at-9.26.57 AM.png
END:VEVENT
BEGIN:VEVENT
DTSTART;TZID=America/New_York:20250327T140000
DTEND;TZID=America/New_York:20250327T150000
DTSTAMP:20260421T044901
CREATED:20250313T170328Z
LAST-MODIFIED:20250313T170328Z
UID:1891-1743084000-1743087600@facultycenter.openlab-dev.sunycreate.cloud
SUMMARY:Experiential Learning in the Age of AI: Activating Student Potential & Leveraging Campus Strengths
DESCRIPTION:
URL:https://online.suny.edu/experiential_learning/event/experiential-learning-in-the-age-of-ai-activating-student-potential-leveraging-campus-strengths/
LOCATION:Online Event
CATEGORIES:Off-Campus Events
ATTACH;FMTTYPE=image/png:https://facultycenter.openlab-dev.sunycreate.cloud/wp-content/uploads/sites/368/2020/05/suny_fact2_feat.png
END:VEVENT
BEGIN:VEVENT
DTSTART;TZID=America/New_York:20250327T140000
DTEND;TZID=America/New_York:20250327T150000
DTSTAMP:20260421T044901
CREATED:20250220T144418Z
LAST-MODIFIED:20250220T155024Z
UID:1862-1743084000-1743087600@facultycenter.openlab-dev.sunycreate.cloud
SUMMARY:Climate Games in a Classroom Near You!
DESCRIPTION:
URL:https://oneonta.campuslabs.com/engage/event/11095059
LOCATION:Milne Library\, Room 102
CATEGORIES:Faculty Center Events,SUNY Oneonta Events
ATTACH;FMTTYPE=image/png:https://facultycenter.openlab-dev.sunycreate.cloud/wp-content/uploads/sites/368/2025/02/Campus-Connection-Graphics-22.png
END:VEVENT
END:VCALENDAR